BEGIN:VCALENDAR
VERSION:2.0
PRODID:-//Arts Connection - Cyswllt Celf - ECPv6.15.20//NONSGML v1.0//EN
CALSCALE:GREGORIAN
METHOD:PUBLISH
X-WR-CALNAME:Arts Connection - Cyswllt Celf
X-ORIGINAL-URL:https://artsconnection.org.uk
X-WR-CALDESC:Events for Arts Connection - Cyswllt Celf
REFRESH-INTERVAL;VALUE=DURATION:PT1H
X-Robots-Tag:noindex
X-PUBLISHED-TTL:PT1H
BEGIN:VTIMEZONE
TZID:Europe/London
BEGIN:DAYLIGHT
TZOFFSETFROM:+0000
TZOFFSETTO:+0100
TZNAME:BST
DTSTART:20250330T010000
END:DAYLIGHT
BEGIN:STANDARD
TZOFFSETFROM:+0100
TZOFFSETTO:+0000
TZNAME:GMT
DTSTART:20251026T010000
END:STANDARD
BEGIN:DAYLIGHT
TZOFFSETFROM:+0000
TZOFFSETTO:+0100
TZNAME:BST
DTSTART:20260329T010000
END:DAYLIGHT
BEGIN:STANDARD
TZOFFSETFROM:+0100
TZOFFSETTO:+0000
TZNAME:GMT
DTSTART:20261025T010000
END:STANDARD
BEGIN:DAYLIGHT
TZOFFSETFROM:+0000
TZOFFSETTO:+0100
TZNAME:BST
DTSTART:20270328T010000
END:DAYLIGHT
BEGIN:STANDARD
TZOFFSETFROM:+0100
TZOFFSETTO:+0000
TZNAME:GMT
DTSTART:20271031T010000
END:STANDARD
END:VTIMEZONE
BEGIN:VEVENT
DTSTART;TZID=Europe/London:20260213T193000
DTEND;TZID=Europe/London:20260213T220000
DTSTAMP:20260420T135207
CREATED:20260105T122854Z
LAST-MODIFIED:20260105T122854Z
UID:10001417-1771011000-1771020000@artsconnection.org.uk
SUMMARY:The Roses | 2025 | 15 | 1h 45m | Jay Roach
DESCRIPTION:A tinderbox of competition and resentments underneath the façade of a picture-perfect couple is ignited when the husband’s professional dreams come crashing down. \n\n\n\n\nSupported by Film Hub Wales as part of the BFI Film Audience Network (FAN)\, made possible by the National Lottery. \nCefnogir gan Ganolfan Ffilm Cymru fel rhan o Rwydwaith Cynulleidfa Ffilm y BFI (FAN)\, a wedi wnaed yn bosib gan y Loteri Genedlaethol. \n\n\n\nWe screen films on the 2nd & 4th Friday of the month.\n The Old New Inn\, High Street\, Llanfyllin\, SY22 5AA\n Fridays @ 7.30pm\, doors open 7pm\n £5 a ticket (£3 under 18s) – cash on the door
URL:https://artsconnection.org.uk/event/the-roses-2025-15-1h-45m-jay-roach/
LOCATION:The Old New Inn\, The Old New Inn\, Llanfyllin\, Powys\, SY22 5AA\, United Kingdom
CATEGORIES:Film | Ffilm
ATTACH;FMTTYPE=image/jpeg:https://artsconnection.org.uk/wp-content/uploads/2026/01/The-Roses-1.jpg
END:VEVENT
END:VCALENDAR