BEGIN:VCALENDAR
VERSION:2.0
PRODID:-//Arts Connection - Cyswllt Celf - ECPv6.15.20//NONSGML v1.0//EN
CALSCALE:GREGORIAN
METHOD:PUBLISH
X-WR-CALNAME:Arts Connection - Cyswllt Celf
X-ORIGINAL-URL:https://artsconnection.org.uk
X-WR-CALDESC:Events for Arts Connection - Cyswllt Celf
REFRESH-INTERVAL;VALUE=DURATION:PT1H
X-Robots-Tag:noindex
X-PUBLISHED-TTL:PT1H
BEGIN:VTIMEZONE
TZID:Europe/London
BEGIN:DAYLIGHT
TZOFFSETFROM:+0000
TZOFFSETTO:+0100
TZNAME:BST
DTSTART:20250330T010000
END:DAYLIGHT
BEGIN:STANDARD
TZOFFSETFROM:+0100
TZOFFSETTO:+0000
TZNAME:GMT
DTSTART:20251026T010000
END:STANDARD
BEGIN:DAYLIGHT
TZOFFSETFROM:+0000
TZOFFSETTO:+0100
TZNAME:BST
DTSTART:20260329T010000
END:DAYLIGHT
BEGIN:STANDARD
TZOFFSETFROM:+0100
TZOFFSETTO:+0000
TZNAME:GMT
DTSTART:20261025T010000
END:STANDARD
BEGIN:DAYLIGHT
TZOFFSETFROM:+0000
TZOFFSETTO:+0100
TZNAME:BST
DTSTART:20270328T010000
END:DAYLIGHT
BEGIN:STANDARD
TZOFFSETFROM:+0100
TZOFFSETTO:+0000
TZNAME:GMT
DTSTART:20271031T010000
END:STANDARD
END:VTIMEZONE
BEGIN:VEVENT
DTSTART;TZID=Europe/London:20260226T110000
DTEND;TZID=Europe/London:20260226T150000
DTSTAMP:20260420T120721
CREATED:20260205T122152Z
LAST-MODIFIED:20260205T123147Z
UID:10001584-1772103600-1772118000@artsconnection.org.uk
SUMMARY:Creative Essentials | Angheinion Creadigol - Creative Reflective Practive
DESCRIPTION:As part of Creative Essentials programme we are offering a session on Creative Reflective Practice | Fel rhan o raglen Hanfodion Creadigol rydym yn cynnig sesiwn ar Ymarfer Myfyriol Creadigol. \nThis session is designed to nurture the mental and emotional wellbeing of local freelance artists\, offering a safe and confidential space to reflect on the emotional demands of creative work | Mae’r sesiwn hon wedi’i chynllunio i feithrin lles meddyliol ac emosiynol artistiaid llawrydd lleol\, gan gynnig lle diogel a chyfrinachol i fyfyrio ar ofynion emosiynol gwaith creadigol. \nLed by Sian Hutchinson\, the session will support artists to pause\, reflect\, and reconnect with their own wellbeing as part of sustainable creative practice | Dan arweiniad Sian Hutchinson\, bydd y sesiwn yn cefnogi artistiaid i oedi\, myfyrio\, ac ailgysylltu â’u lles eu hunain fel rhan o ymarfer creadigol cynaliadwy. \nIf you have a current project you would like to explore during the session\, please bring your thoughts and reflections with you | Os oes gennych brosiect cyfredol yr hoffech ei archwilio yn ystod y sesiwn\, dewch â’ch meddyliau a’ch myfyrdodau gyda chi. \n🎨 Creative Essentials | Creative Reflective Practice \n📍 Y Dolydd | The Workhouse\, Llanfyllin \n🗓 Thursday 26 February | Dydd Iau 26 Chwe⏰ 11am – 3pm \n🥗 FREE lunch included | Cinio AM DDIM wedi’i gynnwys💛 Open to local freelance artists | Ar agor i artistiaid llawrydd lleol \nCost:• Arts Connection – Cyllswt Celf Aelodau | Members: FREE | AM DDIM• Non-members | Pobl nad ydynt yn aelodau: £15• Or become an Arts Connection member for £12 | Neu dewch yn aelod o Arts Connection am £12 👉 https://artsconnection.org.uk/join/  \nFunded by the Pobl Trust. \n\n				\n					\n						1\n						\n						\n					\n				\n			\n			\n			\n		\n			\n				\n					\n					\n						\n							First Name | Enw Cyntaf\n							\n						\n							Surname | Cyfenw\n							\n						\n							Email | Ebostemail\n							\n						\n							Phone |  Ffônmobile or landline // ffôn symudol neu linell dir\n							\n						\n							Town | Tref0 / \n							\n						\n							If you are signing up for more people please add their names below | Os ydych yn cofrestru ar gyfer mwy o bobl ychwanegwch eu henwau isod0 / \n							\n						\n							I agree that any photos\, film\, music or art works made by me or of me and the above-mentioned people produced through this project can be used by Arts Connection to promote their participatory arts activities. Please tick which you are happy with | Rwy'n cytuno y gall unrhyw luniau\, ffilm\, cerddoriaeth neu weithiau celf a wnaed gennyf i neu gennyf i a'r bobl uchod a gynhyrchwyd trwy'r prosiect hwn gael eu defnyddio gan Arts Connection i hyrwyddo eu gweithgareddau celfyddydau cyfranogol. Ticiwch pa rai rydych chi'n hapus â nhw:Yes | OesNo | Nac Ydw\n							\n						\n							Are you a Member or Non-Member?MemberNon-Member\n							\n						\n							Number of tickets12345\n							\n						\n							ItemsQtyTotalCreative Essentials[field77][field77*field56]Annual Charge $xxx\n							\n						\n							Please tick if you need support to access the project? | Ticiwch os oes angen cefnogaeth arnoch i gael mynediad i'r prosiect?Yes | Ydw\n							\n						\n							How did you here about our project? | Sut glywsoch chi am y prosiect?Select An OptionFriend / Family member // Ffrind / aelod o'r teuluArts Connection Newsletter // Cylchlythyr Cysylltiad y CelfyddydauArts Connection website // Gwefan Arts ConnectionArts Connection - Cyswllt Celf Facebook Arts Connection - Cyswllt Celf TwitterArts Connection - Cyswllt Celf Instagram Another charity / community group social media // Cyfryngau cymdeithasol elusen / grŵp cymunedol arallOther // Arall\n							\n						\n							I agree to the terms as set out in the Arts Connection - Cyswllt Celf Privacy Policy | Cytunaf â'r telerau a nodir yng Nghynllun Cyswllt Celfyddydau - Cyswllt CelfPlease Tick | Ticiwch\, Diolch\n							\n						\n							If you are a member you may be redirected to the Paypal site\, please ignore this\, we will have still received your booking form. \n							\n						\n							Submit\n							\n						\n					\n				\n			\n			\n				\n					\n					keyboard_arrow_leftPrevious\n				\n					\n					Nextkeyboard_arrow_right
URL:https://artsconnection.org.uk/event/creativeessentials26/
LOCATION:Y Dolydd | The Workhouse\, Y Dolydd\, Llanfyllin\, Powys\, SY22 5LD\, United Kingdom
CATEGORIES:Training | Hyfforddiant
ATTACH;FMTTYPE=image/png:https://artsconnection.org.uk/wp-content/uploads/2026/02/Creative-Essentials-Llanfyllin-1920-x-1080-px-scaled.png
END:VEVENT
BEGIN:VEVENT
DTSTART;TZID=Europe/London:20260226T180000
DTEND;TZID=Europe/London:20260226T203000
DTSTAMP:20260420T120721
CREATED:20250129T160855Z
LAST-MODIFIED:20260206T133916Z
UID:10001594-1772128800-1772137800@artsconnection.org.uk
SUMMARY:Llanfyllin Youth Arts Cafe
DESCRIPTION:🎨✨ What | Beth: A Weekly Youth Arts Café | Caffi Celfyddydau Ieuenctid Wythnosol 🎭🎉 \n🎨 Arts and crafts | Celf a chrefft 🖌️✂️\n👫 Hang out with friends | Treuliwch amser gyda ffrindiau\n🎲Play games | Chwarae gemau \nWhen | Pryd:\n📅 Thursdays | Dydd Iau\n🕕 Time | Amser: 6 – 8:30pm\n📍 Where | Lle: Llanfyllin Youth and Community Centre | Canolfan Ieuenctid a Chymuned Llanfyllin\nAge | Oed: 10 – 17 years old \nWho Will Be There | Pwy Fydd Yno:\n✨ 2 enablers and an artist twice a month | 2 alluogwr ac artist ddwywaith y mis 🎨🎭\nWhat else | Beth Arall: \n🌟 We’ll be planning summer\, autumn\, and spring trips – young people will be invited to help with fundraising activities! | Byddwn yn trefnu teithiau ac yn annog pobl ifanc i gymryd rhan mewn gweithgareddau codi arian! 🎉🚌🍂 \nExtras | Gwybodaeth Ychwanegol:\n☕ Hot drinks and snacks for purchase at the tuck shop | Byrbrydau a diodydd poeth ar werth yn y siop fwyd 🍫🍪 \nFee | Ffi: £1 💷 \n✨🌟 Join us and be part of the fun! | Dewch i ymuno a bod yn rhan o’r hwyl!  email kerala@artsconnection.org.uk \n  \nVolunteers: We’re looking for volunteers to help out – if you’d be interested in volunteering\, please contact kerala@artsconnection.org.uk (Subject to an enhanced DBS check) \nWe are accepting new members  | Rydym yn derbyn aelodau newydd – Please fill in the parent permission form below and come along to our next session! \nIf you would like any more information please email kerala@artsconnection.org.uk. \nSign up now by clicking here
URL:https://artsconnection.org.uk/event/llanfyllin-youth-arts-cafe/2026-02-26/
LOCATION:Youth & Community Centre | RDC\, Llanfyllin\, SY22 5DB
CATEGORIES:Project | Prosiect
ATTACH;FMTTYPE=image/png:https://artsconnection.org.uk/wp-content/uploads/2023/09/lyac-facebok-banner-25.png
END:VEVENT
END:VCALENDAR