BEGIN:VCALENDAR
VERSION:2.0
PRODID:-//Arts Connection - Cyswllt Celf - ECPv6.15.20//NONSGML v1.0//EN
CALSCALE:GREGORIAN
METHOD:PUBLISH
X-WR-CALNAME:Arts Connection - Cyswllt Celf
X-ORIGINAL-URL:https://artsconnection.org.uk
X-WR-CALDESC:Events for Arts Connection - Cyswllt Celf
REFRESH-INTERVAL;VALUE=DURATION:PT1H
X-Robots-Tag:noindex
X-PUBLISHED-TTL:PT1H
BEGIN:VTIMEZONE
TZID:Europe/London
BEGIN:DAYLIGHT
TZOFFSETFROM:+0000
TZOFFSETTO:+0100
TZNAME:BST
DTSTART:20250330T010000
END:DAYLIGHT
BEGIN:STANDARD
TZOFFSETFROM:+0100
TZOFFSETTO:+0000
TZNAME:GMT
DTSTART:20251026T010000
END:STANDARD
BEGIN:DAYLIGHT
TZOFFSETFROM:+0000
TZOFFSETTO:+0100
TZNAME:BST
DTSTART:20260329T010000
END:DAYLIGHT
BEGIN:STANDARD
TZOFFSETFROM:+0100
TZOFFSETTO:+0000
TZNAME:GMT
DTSTART:20261025T010000
END:STANDARD
BEGIN:DAYLIGHT
TZOFFSETFROM:+0000
TZOFFSETTO:+0100
TZNAME:BST
DTSTART:20270328T010000
END:DAYLIGHT
BEGIN:STANDARD
TZOFFSETFROM:+0100
TZOFFSETTO:+0000
TZNAME:GMT
DTSTART:20271031T010000
END:STANDARD
END:VTIMEZONE
BEGIN:VEVENT
DTSTART;TZID=Europe/London:20260301T150000
DTEND;TZID=Europe/London:20260301T190000
DTSTAMP:20260420T120623
CREATED:20260203T161752Z
LAST-MODIFIED:20260225T125541Z
UID:10001582-1772377200-1772391600@artsconnection.org.uk
SUMMARY:Dydd Gwyl Dewi | St David's Day - Dathliad Prynhawn  | Afternoon Celebration
DESCRIPTION:🌿 Dathliad Prynhawn | Afternoon Celebration 🌿\nArddangosfa | Exhibition · Barddoniaeth | Poetry · Cerddoriaeth | Music · Tafarn | Bar · Bwyd Cymru | Welsh Food\nLansio arddangosfa | Exhibition Launch \nCYDWEITHIO | COLLABORATE – Cydweithrediad rhwng beirdd ac artistiaid | A collaborative between poets and artists \nGyda chefnogaeth | Supported by Severn Community Connections \nAGORIAD SWYDDOGOL | OFFICIAL OPENING – Oriel Bob Guy | Bob Guy Gallery \n\n📍 Y Dolydd | The Workhouse\n🗓 1 Mawrth | March\n⏰ 3 – 7pm\nAM DDIM | FREE\n\n5pm – Performance by Liam Rickard \n6pm – Performance by Cass Meurig \nCroeso cynnes i bawb | Everyone Welcome! \nEvent in partnership with the Y Dolydd | The Workhouse and funded by Welsh Government | Wedi’i ariannu gan Lywodraeth Cymru.
URL:https://artsconnection.org.uk/event/dydd-gwyl-dewi-st-davids-day-dathliad-prynhawn-afternoon-celebration/
LOCATION:Y Dolydd | The Workhouse\, Y Dolydd\, Llanfyllin\, Powys\, SY22 5LD\, United Kingdom
CATEGORIES:Event | Digwyddiad
ATTACH;FMTTYPE=image/png:https://artsconnection.org.uk/wp-content/uploads/2026/02/St-Davids-Day-2026-Event-Poster-Llanfyllin-1920-x-1080-px-scaled.png
END:VEVENT
END:VCALENDAR