BEGIN:VCALENDAR
VERSION:2.0
PRODID:-//Arts Connection - Cyswllt Celf - ECPv6.15.20//NONSGML v1.0//EN
CALSCALE:GREGORIAN
METHOD:PUBLISH
X-ORIGINAL-URL:https://artsconnection.org.uk
X-WR-CALDESC:Events for Arts Connection - Cyswllt Celf
REFRESH-INTERVAL;VALUE=DURATION:PT1H
X-Robots-Tag:noindex
X-PUBLISHED-TTL:PT1H
BEGIN:VTIMEZONE
TZID:Europe/London
BEGIN:DAYLIGHT
TZOFFSETFROM:+0000
TZOFFSETTO:+0100
TZNAME:BST
DTSTART:20250330T010000
END:DAYLIGHT
BEGIN:STANDARD
TZOFFSETFROM:+0100
TZOFFSETTO:+0000
TZNAME:GMT
DTSTART:20251026T010000
END:STANDARD
BEGIN:DAYLIGHT
TZOFFSETFROM:+0000
TZOFFSETTO:+0100
TZNAME:BST
DTSTART:20260329T010000
END:DAYLIGHT
BEGIN:STANDARD
TZOFFSETFROM:+0100
TZOFFSETTO:+0000
TZNAME:GMT
DTSTART:20261025T010000
END:STANDARD
BEGIN:DAYLIGHT
TZOFFSETFROM:+0000
TZOFFSETTO:+0100
TZNAME:BST
DTSTART:20270328T010000
END:DAYLIGHT
BEGIN:STANDARD
TZOFFSETFROM:+0100
TZOFFSETTO:+0000
TZNAME:GMT
DTSTART:20271031T010000
END:STANDARD
END:VTIMEZONE
BEGIN:VEVENT
DTSTART;TZID=Europe/London:20260310T190000
DTEND;TZID=Europe/London:20260310T210000
DTSTAMP:20260420T104346
CREATED:20251125T104228Z
LAST-MODIFIED:20251125T104229Z
UID:10001367-1773169200-1773176400@artsconnection.org.uk
SUMMARY:Life Drawing | Bywluniad
DESCRIPTION:Tuesday Nights | Nos Fawrth \nYouth & Community Centre | Llanfyllin | Canolfan Ieuenctid a Chymynedol \n7 – 9pm \nMedi 9 September \nHydref 14 October \nTachwedd 11 November \nRhagfyr 9 December \nAll sessions are untutored | pob sesiwn heb diwtor \nBook | Cofrestru \n\n£24 per term or £7 per session | £24 y tymor neu £7 y sesiwn | kerala@artsconnection.org.uk \n01691 648 929 | 07814 523 52 \n\nThis form does not exist
URL:https://artsconnection.org.uk/event/ld26-2/2026-03-10/
LOCATION:Youth & Community Centre | RDC\, Llanfyllin\, SY22 5DB
CATEGORIES:Class | Dosbarth
ATTACH;FMTTYPE=image/png:https://artsconnection.org.uk/wp-content/uploads/2024/07/Life-Drawing-25-Facebook-Cover.png
END:VEVENT
END:VCALENDAR