BEGIN:VCALENDAR
VERSION:2.0
PRODID:-//Arts Connection - Cyswllt Celf - ECPv6.15.20//NONSGML v1.0//EN
CALSCALE:GREGORIAN
METHOD:PUBLISH
X-ORIGINAL-URL:https://artsconnection.org.uk
X-WR-CALDESC:Events for Arts Connection - Cyswllt Celf
REFRESH-INTERVAL;VALUE=DURATION:PT1H
X-Robots-Tag:noindex
X-PUBLISHED-TTL:PT1H
BEGIN:VTIMEZONE
TZID:Europe/London
BEGIN:DAYLIGHT
TZOFFSETFROM:+0000
TZOFFSETTO:+0100
TZNAME:BST
DTSTART:20250330T010000
END:DAYLIGHT
BEGIN:STANDARD
TZOFFSETFROM:+0100
TZOFFSETTO:+0000
TZNAME:GMT
DTSTART:20251026T010000
END:STANDARD
BEGIN:DAYLIGHT
TZOFFSETFROM:+0000
TZOFFSETTO:+0100
TZNAME:BST
DTSTART:20260329T010000
END:DAYLIGHT
BEGIN:STANDARD
TZOFFSETFROM:+0100
TZOFFSETTO:+0000
TZNAME:GMT
DTSTART:20261025T010000
END:STANDARD
BEGIN:DAYLIGHT
TZOFFSETFROM:+0000
TZOFFSETTO:+0100
TZNAME:BST
DTSTART:20270328T010000
END:DAYLIGHT
BEGIN:STANDARD
TZOFFSETFROM:+0100
TZOFFSETTO:+0000
TZNAME:GMT
DTSTART:20271031T010000
END:STANDARD
END:VTIMEZONE
BEGIN:VEVENT
DTSTART;TZID=Europe/London:20260311T183000
DTEND;TZID=Europe/London:20260311T203000
DTSTAMP:20260420T092244
CREATED:20260202T101119Z
LAST-MODIFIED:20260202T113356Z
UID:10001574-1773253800-1773261000@artsconnection.org.uk
SUMMARY:Sew Cwthcy – Mend\, Repair & Upcycle
DESCRIPTION:Learn how to mend & upcycle clothes and build confidence with hand and machine sewing while giving your garments a new lease of life | Dysgwch sut i drwsio ac ailgylchu dillad a meithrin hyder gyda gwnïo â llaw a pheiriant wrth roi bywyd newydd i’ch dillad. \n📍 The Institute\, Llanfyllin🕡 Wednesdays | 6.30 – 8.30pm \nSession dates & themes | Dyddiadau a themâu’r sesiynau:🧵 11 March | Mawrth – Machine patching & reinforcing | Clytio a chryfhau â pheiriant✂️ 1 April | April – Altering clothes to fit & hemming | Newid dillad i ffitio a hemio🪡 22 April | April – Darning & decorative repairs | Atgyweirio darnau ac addurniadau🧶 13 May | Mai – A bit of everything! | Ychydig o bopeth! \nAll levels welcome. Bring along clothes  / items you’d like to repair or upcycle | Croeso i bawb – dewch â dillad / eitemau i’w trwsio neu’u hailgylchu. \nIf you have a machine and want to learn how to use it\, please bring it along | Os oes gennych chi beiriant ac eisiau dysgu sut i’w ddefnyddio\, dewch ag ef gyda chi. \n\n\n\nFunded by | Ariennir gan Arts Council of Wales | Cyngor Celfyddydau Cymru.\n\nBook | Cofrestru\n\n				\n					\n						1\n						\n						\n					\n				\n			\n			\n			\n		\n			\n				\n					\n					\n						\n							First Name | Enw Cyntaf\n							\n						\n							Surname | Cyfenw\n							\n						\n							Email | Ebostemail\n							\n						\n							Phone |  Ffônmobile or landline // ffôn symudol neu linell dir\n							\n						\n							Town | Tref0 / \n							\n						\n							If you are signing up for more people please add their names below | Os ydych yn cofrestru ar gyfer mwy o bobl ychwanegwch eu henwau isod0 / \n							\n						\n							I agree that any photos\, film\, music or art works made by me or of me and the above-mentioned people produced through this project can be used by Arts Connection to promote their participatory arts activities. Please tick which you are happy with | Rwy'n cytuno y gall unrhyw luniau\, ffilm\, cerddoriaeth neu weithiau celf a wnaed gennyf i neu gennyf i a'r bobl uchod a gynhyrchwyd trwy'r prosiect hwn gael eu defnyddio gan Arts Connection i hyrwyddo eu gweithgareddau celfyddydau cyfranogol. Ticiwch pa rai rydych chi'n hapus â nhw:Yes | OesNo | Nac Ydw\n							\n						\n							Number of People Attending | Nifer y Bobl sy'n Mynychu12345\n							\n						\n							Dates | Dyddiau11 March - Machine patching & reinforcing 1 April - Altering clothes to fit and hemming22 April - Darning / decorative repairs13 May - A bit of everything\n							\n						\n							ItemsQtyTotalSew Cwtchy[field57][field57*field55]Annual Charge $xxx\n							\n						\n							How did you here about our project? | Sut glywsoch chi am y prosiect?Select An OptionFriend / Family member // Ffrind / aelod o'r teuluArts Connection Newsletter // Cylchlythyr Cysylltiad y CelfyddydauArts Connection website // Gwefan Arts ConnectionArts Connection - Cyswllt Celf Facebook Arts Connection - Cyswllt Celf TwitterArts Connection - Cyswllt Celf Instagram Another charity / community group social media // Cyfryngau cymdeithasol elusen / grŵp cymunedol arallOther // Arall\n							\n						\n							Please tick if you need support to access the project? | Ticiwch os oes angen cefnogaeth arnoch i gael mynediad i'r prosiect?Yes | Ydw\n							\n						\n							I agree to the terms as set out in the Arts Connection - Cyswllt Celf Privacy Policy | Cytunaf â'r telerau a nodir yng Nghynllun Cyswllt Celfyddydau - Cyswllt CelfPlease Tick | Ticiwch\, Diolch\n							\n						\n							Submit\n							\n						\n					\n				\n			\n			\n				\n					\n					keyboard_arrow_leftPrevious\n				\n					\n					Nextkeyboard_arrow_right
URL:https://artsconnection.org.uk/event/sew-cwthcy/
LOCATION:The Institute\, Llanfyllin\, High Street\, Llanfyllin\, Powys\, SY22 5AA\, United Kingdom
CATEGORIES:Class | Dosbarth
ATTACH;FMTTYPE=image/png:https://artsconnection.org.uk/wp-content/uploads/2026/02/Sew-Cwtchy-Poster-1920-x-1080-px-scaled.png
END:VEVENT
END:VCALENDAR