BEGIN:VCALENDAR
VERSION:2.0
PRODID:-//Arts Connection - Cyswllt Celf - ECPv6.15.20//NONSGML v1.0//EN
CALSCALE:GREGORIAN
METHOD:PUBLISH
X-WR-CALNAME:Arts Connection - Cyswllt Celf
X-ORIGINAL-URL:https://artsconnection.org.uk
X-WR-CALDESC:Events for Arts Connection - Cyswllt Celf
REFRESH-INTERVAL;VALUE=DURATION:PT1H
X-Robots-Tag:noindex
X-PUBLISHED-TTL:PT1H
BEGIN:VTIMEZONE
TZID:Europe/London
BEGIN:DAYLIGHT
TZOFFSETFROM:+0000
TZOFFSETTO:+0100
TZNAME:BST
DTSTART:20250330T010000
END:DAYLIGHT
BEGIN:STANDARD
TZOFFSETFROM:+0100
TZOFFSETTO:+0000
TZNAME:GMT
DTSTART:20251026T010000
END:STANDARD
BEGIN:DAYLIGHT
TZOFFSETFROM:+0000
TZOFFSETTO:+0100
TZNAME:BST
DTSTART:20260329T010000
END:DAYLIGHT
BEGIN:STANDARD
TZOFFSETFROM:+0100
TZOFFSETTO:+0000
TZNAME:GMT
DTSTART:20261025T010000
END:STANDARD
BEGIN:DAYLIGHT
TZOFFSETFROM:+0000
TZOFFSETTO:+0100
TZNAME:BST
DTSTART:20270328T010000
END:DAYLIGHT
BEGIN:STANDARD
TZOFFSETFROM:+0100
TZOFFSETTO:+0000
TZNAME:GMT
DTSTART:20271031T010000
END:STANDARD
END:VTIMEZONE
BEGIN:VEVENT
DTSTART;TZID=Europe/London:20260313T193000
DTEND;TZID=Europe/London:20260313T220000
DTSTAMP:20260420T120623
CREATED:20260105T123447Z
LAST-MODIFIED:20260105T123550Z
UID:10001419-1773430200-1773439200@artsconnection.org.uk
SUMMARY:Four Mothers | 2024 | 15 | 1h 29m | Darren Thornton
DESCRIPTION:A writer about to publish his new novel is forced to take care of three eccentric older women – and his own mother – over the course of one chaotic weekend in Dublin. \n\n\n\n\nSupported by Film Hub Wales as part of the BFI Film Audience Network (FAN)\, made possible by the National Lottery. \nCefnogir gan Ganolfan Ffilm Cymru fel rhan o Rwydwaith Cynulleidfa Ffilm y BFI (FAN)\, a wedi wnaed yn bosib gan y Loteri Genedlaethol. \n\n\n\nWe screen films on the 2nd & 4th Friday of the month.\n The Old New Inn\, High Street\, Llanfyllin\, SY22 5AA\n Fridays @ 7.30pm\, doors open 7pm\n £5 a ticket (£3 under 18s) – cash on the door
URL:https://artsconnection.org.uk/event/four-mothers-2024-15-1h-29m-darren-thornton/
LOCATION:The Old New Inn\, The Old New Inn\, Llanfyllin\, Powys\, SY22 5AA\, United Kingdom
CATEGORIES:Film | Ffilm
ATTACH;FMTTYPE=image/png:https://artsconnection.org.uk/wp-content/uploads/2026/01/Four-Mothers.png
END:VEVENT
END:VCALENDAR