BEGIN:VCALENDAR
VERSION:2.0
PRODID:-//Arts Connection - Cyswllt Celf - ECPv6.15.20//NONSGML v1.0//EN
CALSCALE:GREGORIAN
METHOD:PUBLISH
X-WR-CALNAME:Arts Connection - Cyswllt Celf
X-ORIGINAL-URL:https://artsconnection.org.uk
X-WR-CALDESC:Events for Arts Connection - Cyswllt Celf
REFRESH-INTERVAL;VALUE=DURATION:PT1H
X-Robots-Tag:noindex
X-PUBLISHED-TTL:PT1H
BEGIN:VTIMEZONE
TZID:Europe/London
BEGIN:DAYLIGHT
TZOFFSETFROM:+0000
TZOFFSETTO:+0100
TZNAME:BST
DTSTART:20230326T010000
END:DAYLIGHT
BEGIN:STANDARD
TZOFFSETFROM:+0100
TZOFFSETTO:+0000
TZNAME:GMT
DTSTART:20231029T010000
END:STANDARD
BEGIN:DAYLIGHT
TZOFFSETFROM:+0000
TZOFFSETTO:+0100
TZNAME:BST
DTSTART:20240331T010000
END:DAYLIGHT
BEGIN:STANDARD
TZOFFSETFROM:+0100
TZOFFSETTO:+0000
TZNAME:GMT
DTSTART:20241027T010000
END:STANDARD
BEGIN:DAYLIGHT
TZOFFSETFROM:+0000
TZOFFSETTO:+0100
TZNAME:BST
DTSTART:20250330T010000
END:DAYLIGHT
BEGIN:STANDARD
TZOFFSETFROM:+0100
TZOFFSETTO:+0000
TZNAME:GMT
DTSTART:20251026T010000
END:STANDARD
BEGIN:DAYLIGHT
TZOFFSETFROM:+0000
TZOFFSETTO:+0100
TZNAME:BST
DTSTART:20260329T010000
END:DAYLIGHT
BEGIN:STANDARD
TZOFFSETFROM:+0100
TZOFFSETTO:+0000
TZNAME:GMT
DTSTART:20261025T010000
END:STANDARD
END:VTIMEZONE
BEGIN:VEVENT
DTSTART;TZID=Europe/London:20251014T190000
DTEND;TZID=Europe/London:20251014T210000
DTSTAMP:20260421T153419
CREATED:20250715T084706Z
LAST-MODIFIED:20250826T114727Z
UID:10001362-1760468400-1760475600@artsconnection.org.uk
SUMMARY:Life Drawing | Bywluniad
DESCRIPTION:Tuesday Nights | Nos Fawrth \nYouth & Community Centre | Llanfyllin | Canolfan Ieuenctid a Chymynedol \n7 – 9pm \nMedi 9 September \nHydref 14 October \nTachwedd 11 November \nRhagfyr 9 December \nAll sessions are untutored | pob sesiwn heb diwtor \nBook | Cofrestru \n\n£24 per term or £7 per session | £24 y tymor neu £7 y sesiwn | kerala@artsconnection.org.uk \n01691 648 929 | 07814 523 52 \n\nThis form does not exist
URL:https://artsconnection.org.uk/event/ld26/2025-10-14/
LOCATION:Youth & Community Centre | RDC\, Llanfyllin\, SY22 5DB
CATEGORIES:Class | Dosbarth
ATTACH;FMTTYPE=image/png:https://artsconnection.org.uk/wp-content/uploads/2024/07/Life-Drawing-25-Facebook-Cover.png
END:VEVENT
BEGIN:VEVENT
DTSTART;TZID=Europe/London:20251007T183000
DTEND;TZID=Europe/London:20251007T203000
DTSTAMP:20260421T153419
CREATED:20250319T114535Z
LAST-MODIFIED:20250325T155900Z
UID:10001155-1759861800-1759869000@artsconnection.org.uk
SUMMARY:Masquerade 2025
DESCRIPTION:Our classes aimed at people with learning disabilities feature drama\, art\, movement & music | Mae ein dosbarthiadau ar gyfer pobl ag anableddau dysgu yn cynnwys drama\, celf\, symud a cherddoriaeth\nBi-weekly classes on Tuesday evenings | Dosbarthiadau bob yn ail wythnos ar nos Fawrth\n\n 6:30-8:30pm\n The Institute\, Llanfyllin\n £4 per session | £4 y sesiwn\n\nDates: The group will be meeting on the following TUESDAYS of each month:\nApril | Ebrill 15 & 22\nMay | Mai 6 & 20\nJune | Mehefin 3 & 17\nJuly | Gorffennaf 1 & 15\nBreak for summer \nSep | Medi 9 & 23\nOct | Hydref 7 & 21st\nNov | Tachwedd 4\, 18 & 25\n\nEnd of year show: Saturday 29 November | Dydd Sad 29 Tach\n\nBook | Cofrestru\n\n 01691 648929 | 07814 523 521\n kerala@artsconnection.org.uk
URL:https://artsconnection.org.uk/event/masquerade-2025/2025-10-07/
LOCATION:Public Institute\, Llanfyllin\, Llanfyllin\, SY22 5AA
CATEGORIES:Class | Dosbarth
ATTACH;FMTTYPE=image/png:https://artsconnection.org.uk/wp-content/uploads/2025/03/Masquerade-24-Facebook-Cover.png
END:VEVENT
BEGIN:VEVENT
DTSTART;TZID=Europe/London:20250923T183000
DTEND;TZID=Europe/London:20250923T203000
DTSTAMP:20260421T153419
CREATED:20250319T114535Z
LAST-MODIFIED:20250325T155900Z
UID:10001154-1758652200-1758659400@artsconnection.org.uk
SUMMARY:Masquerade 2025
DESCRIPTION:Our classes aimed at people with learning disabilities feature drama\, art\, movement & music | Mae ein dosbarthiadau ar gyfer pobl ag anableddau dysgu yn cynnwys drama\, celf\, symud a cherddoriaeth\nBi-weekly classes on Tuesday evenings | Dosbarthiadau bob yn ail wythnos ar nos Fawrth\n\n 6:30-8:30pm\n The Institute\, Llanfyllin\n £4 per session | £4 y sesiwn\n\nDates: The group will be meeting on the following TUESDAYS of each month:\nApril | Ebrill 15 & 22\nMay | Mai 6 & 20\nJune | Mehefin 3 & 17\nJuly | Gorffennaf 1 & 15\nBreak for summer \nSep | Medi 9 & 23\nOct | Hydref 7 & 21st\nNov | Tachwedd 4\, 18 & 25\n\nEnd of year show: Saturday 29 November | Dydd Sad 29 Tach\n\nBook | Cofrestru\n\n 01691 648929 | 07814 523 521\n kerala@artsconnection.org.uk
URL:https://artsconnection.org.uk/event/masquerade-2025/2025-09-23/
LOCATION:Public Institute\, Llanfyllin\, Llanfyllin\, SY22 5AA
CATEGORIES:Class | Dosbarth
ATTACH;FMTTYPE=image/png:https://artsconnection.org.uk/wp-content/uploads/2025/03/Masquerade-24-Facebook-Cover.png
END:VEVENT
BEGIN:VEVENT
DTSTART;TZID=Europe/London:20250909T190000
DTEND;TZID=Europe/London:20250909T210000
DTSTAMP:20260421T153419
CREATED:20250715T084706Z
LAST-MODIFIED:20250826T114727Z
UID:10001361-1757444400-1757451600@artsconnection.org.uk
SUMMARY:Life Drawing | Bywluniad
DESCRIPTION:Tuesday Nights | Nos Fawrth \nYouth & Community Centre | Llanfyllin | Canolfan Ieuenctid a Chymynedol \n7 – 9pm \nMedi 9 September \nHydref 14 October \nTachwedd 11 November \nRhagfyr 9 December \nAll sessions are untutored | pob sesiwn heb diwtor \nBook | Cofrestru \n\n£24 per term or £7 per session | £24 y tymor neu £7 y sesiwn | kerala@artsconnection.org.uk \n01691 648 929 | 07814 523 52 \n\nThis form does not exist
URL:https://artsconnection.org.uk/event/ld26/2025-09-09/
LOCATION:Youth & Community Centre | RDC\, Llanfyllin\, SY22 5DB
CATEGORIES:Class | Dosbarth
ATTACH;FMTTYPE=image/png:https://artsconnection.org.uk/wp-content/uploads/2024/07/Life-Drawing-25-Facebook-Cover.png
END:VEVENT
BEGIN:VEVENT
DTSTART;TZID=Europe/London:20250909T183000
DTEND;TZID=Europe/London:20250909T203000
DTSTAMP:20260421T153419
CREATED:20250319T114535Z
LAST-MODIFIED:20250325T155900Z
UID:10001153-1757442600-1757449800@artsconnection.org.uk
SUMMARY:Masquerade 2025
DESCRIPTION:Our classes aimed at people with learning disabilities feature drama\, art\, movement & music | Mae ein dosbarthiadau ar gyfer pobl ag anableddau dysgu yn cynnwys drama\, celf\, symud a cherddoriaeth\nBi-weekly classes on Tuesday evenings | Dosbarthiadau bob yn ail wythnos ar nos Fawrth\n\n 6:30-8:30pm\n The Institute\, Llanfyllin\n £4 per session | £4 y sesiwn\n\nDates: The group will be meeting on the following TUESDAYS of each month:\nApril | Ebrill 15 & 22\nMay | Mai 6 & 20\nJune | Mehefin 3 & 17\nJuly | Gorffennaf 1 & 15\nBreak for summer \nSep | Medi 9 & 23\nOct | Hydref 7 & 21st\nNov | Tachwedd 4\, 18 & 25\n\nEnd of year show: Saturday 29 November | Dydd Sad 29 Tach\n\nBook | Cofrestru\n\n 01691 648929 | 07814 523 521\n kerala@artsconnection.org.uk
URL:https://artsconnection.org.uk/event/masquerade-2025/2025-09-09/
LOCATION:Public Institute\, Llanfyllin\, Llanfyllin\, SY22 5AA
CATEGORIES:Class | Dosbarth
ATTACH;FMTTYPE=image/png:https://artsconnection.org.uk/wp-content/uploads/2025/03/Masquerade-24-Facebook-Cover.png
END:VEVENT
BEGIN:VEVENT
DTSTART;TZID=Europe/London:20250715T183000
DTEND;TZID=Europe/London:20250715T203000
DTSTAMP:20260421T153419
CREATED:20250319T114535Z
LAST-MODIFIED:20250325T155900Z
UID:10001152-1752604200-1752611400@artsconnection.org.uk
SUMMARY:Masquerade 2025
DESCRIPTION:Our classes aimed at people with learning disabilities feature drama\, art\, movement & music | Mae ein dosbarthiadau ar gyfer pobl ag anableddau dysgu yn cynnwys drama\, celf\, symud a cherddoriaeth\nBi-weekly classes on Tuesday evenings | Dosbarthiadau bob yn ail wythnos ar nos Fawrth\n\n 6:30-8:30pm\n The Institute\, Llanfyllin\n £4 per session | £4 y sesiwn\n\nDates: The group will be meeting on the following TUESDAYS of each month:\nApril | Ebrill 15 & 22\nMay | Mai 6 & 20\nJune | Mehefin 3 & 17\nJuly | Gorffennaf 1 & 15\nBreak for summer \nSep | Medi 9 & 23\nOct | Hydref 7 & 21st\nNov | Tachwedd 4\, 18 & 25\n\nEnd of year show: Saturday 29 November | Dydd Sad 29 Tach\n\nBook | Cofrestru\n\n 01691 648929 | 07814 523 521\n kerala@artsconnection.org.uk
URL:https://artsconnection.org.uk/event/masquerade-2025/2025-07-15/
LOCATION:Public Institute\, Llanfyllin\, Llanfyllin\, SY22 5AA
CATEGORIES:Class | Dosbarth
ATTACH;FMTTYPE=image/png:https://artsconnection.org.uk/wp-content/uploads/2025/03/Masquerade-24-Facebook-Cover.png
END:VEVENT
BEGIN:VEVENT
DTSTART;TZID=Europe/London:20250701T183000
DTEND;TZID=Europe/London:20250701T203000
DTSTAMP:20260421T153419
CREATED:20250319T114535Z
LAST-MODIFIED:20250325T155900Z
UID:10001151-1751394600-1751401800@artsconnection.org.uk
SUMMARY:Masquerade 2025
DESCRIPTION:Our classes aimed at people with learning disabilities feature drama\, art\, movement & music | Mae ein dosbarthiadau ar gyfer pobl ag anableddau dysgu yn cynnwys drama\, celf\, symud a cherddoriaeth\nBi-weekly classes on Tuesday evenings | Dosbarthiadau bob yn ail wythnos ar nos Fawrth\n\n 6:30-8:30pm\n The Institute\, Llanfyllin\n £4 per session | £4 y sesiwn\n\nDates: The group will be meeting on the following TUESDAYS of each month:\nApril | Ebrill 15 & 22\nMay | Mai 6 & 20\nJune | Mehefin 3 & 17\nJuly | Gorffennaf 1 & 15\nBreak for summer \nSep | Medi 9 & 23\nOct | Hydref 7 & 21st\nNov | Tachwedd 4\, 18 & 25\n\nEnd of year show: Saturday 29 November | Dydd Sad 29 Tach\n\nBook | Cofrestru\n\n 01691 648929 | 07814 523 521\n kerala@artsconnection.org.uk
URL:https://artsconnection.org.uk/event/masquerade-2025/2025-07-01/
LOCATION:Public Institute\, Llanfyllin\, Llanfyllin\, SY22 5AA
CATEGORIES:Class | Dosbarth
ATTACH;FMTTYPE=image/png:https://artsconnection.org.uk/wp-content/uploads/2025/03/Masquerade-24-Facebook-Cover.png
END:VEVENT
BEGIN:VEVENT
DTSTART;TZID=Europe/London:20250617T183000
DTEND;TZID=Europe/London:20250617T203000
DTSTAMP:20260421T153419
CREATED:20250319T114535Z
LAST-MODIFIED:20250325T155900Z
UID:10001150-1750185000-1750192200@artsconnection.org.uk
SUMMARY:Masquerade 2025
DESCRIPTION:Our classes aimed at people with learning disabilities feature drama\, art\, movement & music | Mae ein dosbarthiadau ar gyfer pobl ag anableddau dysgu yn cynnwys drama\, celf\, symud a cherddoriaeth\nBi-weekly classes on Tuesday evenings | Dosbarthiadau bob yn ail wythnos ar nos Fawrth\n\n 6:30-8:30pm\n The Institute\, Llanfyllin\n £4 per session | £4 y sesiwn\n\nDates: The group will be meeting on the following TUESDAYS of each month:\nApril | Ebrill 15 & 22\nMay | Mai 6 & 20\nJune | Mehefin 3 & 17\nJuly | Gorffennaf 1 & 15\nBreak for summer \nSep | Medi 9 & 23\nOct | Hydref 7 & 21st\nNov | Tachwedd 4\, 18 & 25\n\nEnd of year show: Saturday 29 November | Dydd Sad 29 Tach\n\nBook | Cofrestru\n\n 01691 648929 | 07814 523 521\n kerala@artsconnection.org.uk
URL:https://artsconnection.org.uk/event/masquerade-2025/2025-06-17/
LOCATION:Public Institute\, Llanfyllin\, Llanfyllin\, SY22 5AA
CATEGORIES:Class | Dosbarth
ATTACH;FMTTYPE=image/png:https://artsconnection.org.uk/wp-content/uploads/2025/03/Masquerade-24-Facebook-Cover.png
END:VEVENT
BEGIN:VEVENT
DTSTART;TZID=Europe/London:20250603T183000
DTEND;TZID=Europe/London:20250603T203000
DTSTAMP:20260421T153419
CREATED:20250319T114535Z
LAST-MODIFIED:20250325T155900Z
UID:10001149-1748975400-1748982600@artsconnection.org.uk
SUMMARY:Masquerade 2025
DESCRIPTION:Our classes aimed at people with learning disabilities feature drama\, art\, movement & music | Mae ein dosbarthiadau ar gyfer pobl ag anableddau dysgu yn cynnwys drama\, celf\, symud a cherddoriaeth\nBi-weekly classes on Tuesday evenings | Dosbarthiadau bob yn ail wythnos ar nos Fawrth\n\n 6:30-8:30pm\n The Institute\, Llanfyllin\n £4 per session | £4 y sesiwn\n\nDates: The group will be meeting on the following TUESDAYS of each month:\nApril | Ebrill 15 & 22\nMay | Mai 6 & 20\nJune | Mehefin 3 & 17\nJuly | Gorffennaf 1 & 15\nBreak for summer \nSep | Medi 9 & 23\nOct | Hydref 7 & 21st\nNov | Tachwedd 4\, 18 & 25\n\nEnd of year show: Saturday 29 November | Dydd Sad 29 Tach\n\nBook | Cofrestru\n\n 01691 648929 | 07814 523 521\n kerala@artsconnection.org.uk
URL:https://artsconnection.org.uk/event/masquerade-2025/2025-06-03/
LOCATION:Public Institute\, Llanfyllin\, Llanfyllin\, SY22 5AA
CATEGORIES:Class | Dosbarth
ATTACH;FMTTYPE=image/png:https://artsconnection.org.uk/wp-content/uploads/2025/03/Masquerade-24-Facebook-Cover.png
END:VEVENT
BEGIN:VEVENT
DTSTART;TZID=Europe/London:20250520T183000
DTEND;TZID=Europe/London:20250520T203000
DTSTAMP:20260421T153419
CREATED:20250319T114535Z
LAST-MODIFIED:20250325T155900Z
UID:10001148-1747765800-1747773000@artsconnection.org.uk
SUMMARY:Masquerade 2025
DESCRIPTION:Our classes aimed at people with learning disabilities feature drama\, art\, movement & music | Mae ein dosbarthiadau ar gyfer pobl ag anableddau dysgu yn cynnwys drama\, celf\, symud a cherddoriaeth\nBi-weekly classes on Tuesday evenings | Dosbarthiadau bob yn ail wythnos ar nos Fawrth\n\n 6:30-8:30pm\n The Institute\, Llanfyllin\n £4 per session | £4 y sesiwn\n\nDates: The group will be meeting on the following TUESDAYS of each month:\nApril | Ebrill 15 & 22\nMay | Mai 6 & 20\nJune | Mehefin 3 & 17\nJuly | Gorffennaf 1 & 15\nBreak for summer \nSep | Medi 9 & 23\nOct | Hydref 7 & 21st\nNov | Tachwedd 4\, 18 & 25\n\nEnd of year show: Saturday 29 November | Dydd Sad 29 Tach\n\nBook | Cofrestru\n\n 01691 648929 | 07814 523 521\n kerala@artsconnection.org.uk
URL:https://artsconnection.org.uk/event/masquerade-2025/2025-05-20/
LOCATION:Public Institute\, Llanfyllin\, Llanfyllin\, SY22 5AA
CATEGORIES:Class | Dosbarth
ATTACH;FMTTYPE=image/png:https://artsconnection.org.uk/wp-content/uploads/2025/03/Masquerade-24-Facebook-Cover.png
END:VEVENT
BEGIN:VEVENT
DTSTART;TZID=Europe/London:20250506T183000
DTEND;TZID=Europe/London:20250506T203000
DTSTAMP:20260421T153419
CREATED:20250319T114535Z
LAST-MODIFIED:20250325T155900Z
UID:10001147-1746556200-1746563400@artsconnection.org.uk
SUMMARY:Masquerade 2025
DESCRIPTION:Our classes aimed at people with learning disabilities feature drama\, art\, movement & music | Mae ein dosbarthiadau ar gyfer pobl ag anableddau dysgu yn cynnwys drama\, celf\, symud a cherddoriaeth\nBi-weekly classes on Tuesday evenings | Dosbarthiadau bob yn ail wythnos ar nos Fawrth\n\n 6:30-8:30pm\n The Institute\, Llanfyllin\n £4 per session | £4 y sesiwn\n\nDates: The group will be meeting on the following TUESDAYS of each month:\nApril | Ebrill 15 & 22\nMay | Mai 6 & 20\nJune | Mehefin 3 & 17\nJuly | Gorffennaf 1 & 15\nBreak for summer \nSep | Medi 9 & 23\nOct | Hydref 7 & 21st\nNov | Tachwedd 4\, 18 & 25\n\nEnd of year show: Saturday 29 November | Dydd Sad 29 Tach\n\nBook | Cofrestru\n\n 01691 648929 | 07814 523 521\n kerala@artsconnection.org.uk
URL:https://artsconnection.org.uk/event/masquerade-2025/2025-05-06/
LOCATION:Public Institute\, Llanfyllin\, Llanfyllin\, SY22 5AA
CATEGORIES:Class | Dosbarth
ATTACH;FMTTYPE=image/png:https://artsconnection.org.uk/wp-content/uploads/2025/03/Masquerade-24-Facebook-Cover.png
END:VEVENT
BEGIN:VEVENT
DTSTART;TZID=Europe/London:20250422T183000
DTEND;TZID=Europe/London:20250422T203000
DTSTAMP:20260421T153419
CREATED:20250319T114535Z
LAST-MODIFIED:20250325T155900Z
UID:10001146-1745346600-1745353800@artsconnection.org.uk
SUMMARY:Masquerade 2025
DESCRIPTION:Our classes aimed at people with learning disabilities feature drama\, art\, movement & music | Mae ein dosbarthiadau ar gyfer pobl ag anableddau dysgu yn cynnwys drama\, celf\, symud a cherddoriaeth\nBi-weekly classes on Tuesday evenings | Dosbarthiadau bob yn ail wythnos ar nos Fawrth\n\n 6:30-8:30pm\n The Institute\, Llanfyllin\n £4 per session | £4 y sesiwn\n\nDates: The group will be meeting on the following TUESDAYS of each month:\nApril | Ebrill 15 & 22\nMay | Mai 6 & 20\nJune | Mehefin 3 & 17\nJuly | Gorffennaf 1 & 15\nBreak for summer \nSep | Medi 9 & 23\nOct | Hydref 7 & 21st\nNov | Tachwedd 4\, 18 & 25\n\nEnd of year show: Saturday 29 November | Dydd Sad 29 Tach\n\nBook | Cofrestru\n\n 01691 648929 | 07814 523 521\n kerala@artsconnection.org.uk
URL:https://artsconnection.org.uk/event/masquerade-2025/2025-04-22/
LOCATION:Public Institute\, Llanfyllin\, Llanfyllin\, SY22 5AA
CATEGORIES:Class | Dosbarth
ATTACH;FMTTYPE=image/png:https://artsconnection.org.uk/wp-content/uploads/2025/03/Masquerade-24-Facebook-Cover.png
END:VEVENT
BEGIN:VEVENT
DTSTART;TZID=Europe/London:20250415T183000
DTEND;TZID=Europe/London:20250415T203000
DTSTAMP:20260421T153419
CREATED:20250319T114535Z
LAST-MODIFIED:20250325T155900Z
UID:10001145-1744741800-1744749000@artsconnection.org.uk
SUMMARY:Masquerade 2025
DESCRIPTION:Our classes aimed at people with learning disabilities feature drama\, art\, movement & music | Mae ein dosbarthiadau ar gyfer pobl ag anableddau dysgu yn cynnwys drama\, celf\, symud a cherddoriaeth\nBi-weekly classes on Tuesday evenings | Dosbarthiadau bob yn ail wythnos ar nos Fawrth\n\n 6:30-8:30pm\n The Institute\, Llanfyllin\n £4 per session | £4 y sesiwn\n\nDates: The group will be meeting on the following TUESDAYS of each month:\nApril | Ebrill 15 & 22\nMay | Mai 6 & 20\nJune | Mehefin 3 & 17\nJuly | Gorffennaf 1 & 15\nBreak for summer \nSep | Medi 9 & 23\nOct | Hydref 7 & 21st\nNov | Tachwedd 4\, 18 & 25\n\nEnd of year show: Saturday 29 November | Dydd Sad 29 Tach\n\nBook | Cofrestru\n\n 01691 648929 | 07814 523 521\n kerala@artsconnection.org.uk
URL:https://artsconnection.org.uk/event/masquerade-2025/2025-04-15/
LOCATION:Public Institute\, Llanfyllin\, Llanfyllin\, SY22 5AA
CATEGORIES:Class | Dosbarth
ATTACH;FMTTYPE=image/png:https://artsconnection.org.uk/wp-content/uploads/2025/03/Masquerade-24-Facebook-Cover.png
END:VEVENT
BEGIN:VEVENT
DTSTART;TZID=Europe/London:20250311T190000
DTEND;TZID=Europe/London:20250311T210000
DTSTAMP:20260421T153419
CREATED:20250128T103940Z
LAST-MODIFIED:20250218T095931Z
UID:10000964-1741719600-1741726800@artsconnection.org.uk
SUMMARY:Life Drawing | Bywluniad
DESCRIPTION:Tuesday Nights | Nos Fawrth \nYouth & Community Centre | Llanfyllin | Canolfan Ieuenctid a Chymynedol \n7 – 9pm \nIonawr 14 January \n Chwefror 11 February \nMawrth 11 March \nEbrill 8 April \nAll sessions are untutored | pob sesiwn heb diwtor \nBook | Cofrestru \n\n£20 per term or £6 per session | £20 y tymor neu £6 y sesiwn | kerala@artsconnection.org.uk \n01691 648 929 | 07814 523 52 \n\nThis form does not exist
URL:https://artsconnection.org.uk/event/life-drawing-bywluniad-2/
LOCATION:Youth & Community Centre | RDC\, Llanfyllin\, SY22 5DB
CATEGORIES:Class | Dosbarth
ATTACH;FMTTYPE=image/png:https://artsconnection.org.uk/wp-content/uploads/2024/07/Life-Drawing-25-Facebook-Cover.png
END:VEVENT
BEGIN:VEVENT
DTSTART;TZID=Europe/London:20241102T100000
DTEND;TZID=Europe/London:20241102T160000
DTSTAMP:20260421T153419
CREATED:20241029T143002Z
LAST-MODIFIED:20241108T112456Z
UID:10000844-1730541600-1730563200@artsconnection.org.uk
SUMMARY:Green & Wood Work Skills for 19+ year olds | Sgiliau Gwaith Gwyrdd a Phren ar gyfer pobl ifanc 19+ oed
DESCRIPTION:A great opportunity to learn green and wood craft skills\, numeracy skills and more all while making a difference in your local community! | Cyfle gwych i ddysgu sgiliau crefft gwyrdd a phren\, sgiliau rhifedd a mwy i gyd wrth wneud gwahaniaeth yn eich cymuned leol!  \n\nLed by Matt Benner-Hughes and Monique Cronje.\n\n\nA place for people to spend time in nature\, meet people and develop new skills\, including: \n\nGreen & Nature knowledge\nGreen & Nature skills\nArtistic skills\nNumeracy skills\n\n\n\n\n\n\n\n\n\n\nWe’ll be working in the area by the river just off the Cae Bodfach Field and in the Orchard. We’ll be looking to clear the area\, explore skills such as wood craft\, willow work and get creative with design work including drawing\, photography and land art.\n\n\n\n\n\n\n\n\n\nYou need to be able to attend both days if possible\, please let us know if this is a problem | Mae angen i chi allu mynychu pob sesiwn\, rhowch wybod i ni os yw hyn yn broblem:\nSaturdays 2 & 23 Nov | Tach \n10am – 4pm \nCae Bodfach Field | Llanfyllin \nThis project is funded by the UK Government through the UK Shared Prosperity Fund\, supported by Powys County Council. \nBook | Cofrestru:\nThis form does not exist
URL:https://artsconnection.org.uk/event/greenskills-2/2024-11-02/2/
LOCATION:Cae Bodfach Field\, Llanfyllin
CATEGORIES:Class | Dosbarth,Training | Hyfforddiant,Workshop | Gweithdy
END:VEVENT
BEGIN:VEVENT
DTSTART;TZID=Europe/London:20241102T080000
DTEND;TZID=Europe/London:20241102T170000
DTSTAMP:20260421T153419
CREATED:20241029T143002Z
LAST-MODIFIED:20241108T112456Z
UID:10000843-1730534400-1730566800@artsconnection.org.uk
SUMMARY:Green & Wood Work Skills for 19+ year olds | Sgiliau Gwaith Gwyrdd a Phren ar gyfer pobl ifanc 19+ oed
DESCRIPTION:A great opportunity to learn green and wood craft skills\, numeracy skills and more all while making a difference in your local community! | Cyfle gwych i ddysgu sgiliau crefft gwyrdd a phren\, sgiliau rhifedd a mwy i gyd wrth wneud gwahaniaeth yn eich cymuned leol!  \n\nLed by Matt Benner-Hughes and Monique Cronje.\n\n\nA place for people to spend time in nature\, meet people and develop new skills\, including: \n\nGreen & Nature knowledge\nGreen & Nature skills\nArtistic skills\nNumeracy skills\n\n\n\n\n\n\n\n\n\n\nWe’ll be working in the area by the river just off the Cae Bodfach Field and in the Orchard. We’ll be looking to clear the area\, explore skills such as wood craft\, willow work and get creative with design work including drawing\, photography and land art.\n\n\n\n\n\n\n\n\n\nYou need to be able to attend both days if possible\, please let us know if this is a problem | Mae angen i chi allu mynychu pob sesiwn\, rhowch wybod i ni os yw hyn yn broblem:\nSaturdays 2 & 23 Nov | Tach \n10am – 4pm \nCae Bodfach Field | Llanfyllin \nThis project is funded by the UK Government through the UK Shared Prosperity Fund\, supported by Powys County Council. \nBook | Cofrestru:\nThis form does not exist
URL:https://artsconnection.org.uk/event/greenskills-2/2024-11-02/1/
LOCATION:Cae Bodfach Field\, Llanfyllin
CATEGORIES:Class | Dosbarth,Training | Hyfforddiant,Workshop | Gweithdy
END:VEVENT
END:VCALENDAR