BEGIN:VCALENDAR
VERSION:2.0
PRODID:-//Arts Connection - Cyswllt Celf - ECPv6.15.20//NONSGML v1.0//EN
CALSCALE:GREGORIAN
METHOD:PUBLISH
X-ORIGINAL-URL:https://artsconnection.org.uk
X-WR-CALDESC:Events for Arts Connection - Cyswllt Celf
REFRESH-INTERVAL;VALUE=DURATION:PT1H
X-Robots-Tag:noindex
X-PUBLISHED-TTL:PT1H
BEGIN:VTIMEZONE
TZID:Europe/London
BEGIN:DAYLIGHT
TZOFFSETFROM:+0000
TZOFFSETTO:+0100
TZNAME:BST
DTSTART:20240331T010000
END:DAYLIGHT
BEGIN:STANDARD
TZOFFSETFROM:+0100
TZOFFSETTO:+0000
TZNAME:GMT
DTSTART:20241027T010000
END:STANDARD
BEGIN:DAYLIGHT
TZOFFSETFROM:+0000
TZOFFSETTO:+0100
TZNAME:BST
DTSTART:20250330T010000
END:DAYLIGHT
BEGIN:STANDARD
TZOFFSETFROM:+0100
TZOFFSETTO:+0000
TZNAME:GMT
DTSTART:20251026T010000
END:STANDARD
BEGIN:DAYLIGHT
TZOFFSETFROM:+0000
TZOFFSETTO:+0100
TZNAME:BST
DTSTART:20260329T010000
END:DAYLIGHT
BEGIN:STANDARD
TZOFFSETFROM:+0100
TZOFFSETTO:+0000
TZNAME:GMT
DTSTART:20261025T010000
END:STANDARD
END:VTIMEZONE
BEGIN:VEVENT
DTSTART;TZID=Europe/London:20250226T103000
DTEND;TZID=Europe/London:20250226T123000
DTSTAMP:20260422T105716
CREATED:20250124T131946Z
LAST-MODIFIED:20250214T164243Z
UID:10000957-1740565800-1740573000@artsconnection.org.uk
SUMMARY:Cardboard Crafting Extravaganza | Strafagansa Crefftio Cardbord
DESCRIPTION:Celebrate the versatility of cardboard in this hands-on family craft workshop. Let your imagination run wild as you create and explore together. \nDewch i ddathlu amlochredd cardbord yn y gweithdy crefft teulu ymarferol hwn. Gadewch i’ch dychymyg redeg yn wyllt wrth i chi greu ac archwilio gyda’ch gilydd. \nMost cardboard is destined for the recycling bin. But with a bit of imagination could you build a rocket ship? Make yourself a pair wings?\nOr even bring a dinosaur to life? Turn everyday scraps into extraordinary creations in our cardboard crafting extravaganza! \nOnd gydag ychydig o ddychymyg a allech chi adeiladu llong roced? Gwneud eich hun yn bâr adenydd?\nNeu hyd yn oed ddod â deinosor yn fyw? Trowch sbarion bob dydd yn greadigaethau rhyfeddol yn ein strafagansa crefftio cardboard! \nAge | Oed: Most suitable 4+ but all ages welcome | Mwyaf addas 4+ ond croeso i bob oed\n£4 per family | £4 y teulu \nWednesday\, 26 February | Dydd Mercher\, 26 Chwefror – The Institute\, Llanfair Caereinion\nFriday\, 28 February | Dydd Gwener\, 28 Chwefror– Montgomery Town Hall | Neuadd Dref Trefaldwyn \nTime | Amser: 10:30 am – 12:30 pm \n\n				\n					\n						1\n						\n						\n					\n				\n			\n			\n			\n		\n			\n				\n					\n					\n						\n							Cardboard Crafting Extravaganza | Strafagansa Crefftio Cardbord\n							\n						\n							Parent / Carer First Name | Rhiant / Gofalwr Enw Cyntaf\n							\n						\n							Parent / Carer Surname | Rhiant / Gofalwr Cyfenw\n							\n						\n							Parent / Carer Email | Rhiant / Gofalwr Ebostemail\n							\n						\n							Parent / Carer Phone | Rhiant / Gofalwr Ffônmobile or landline // ffôn symudol neu linell dir\n							\n						\n							Town | Tref\n							\n						\n							Please add the names and age of children attending below: | Ychwanegwch enwau ac oedran y plant sy'n mynychu isod:0 / \n							\n						\n							I agree that any photos\, film\, music or art works made by me or of me and the above-mentioned people produced through this project can be used by Arts Connection to promote their participatory arts activities. Please tick which you are happy with | Rwy'n cytuno y gall unrhyw luniau\, ffilm\, cerddoriaeth neu weithiau celf a wnaed gennyf i neu gennyf i a'r bobl uchod a gynhyrchwyd trwy'r prosiect hwn gael eu defnyddio gan Arts Connection i hyrwyddo eu gweithgareddau celfyddydau cyfranogol. Ticiwch pa rai rydych chi'n hapus â nhw:Yes | OesNo | Nac Ydw\n							\n						\n							Tickets | Tocynnau£4£6 I want to donate more than the ticket price | Rwyf am gyfrannu mwy na phris y tocyn£10 - I want to donate more than the ticket price | Rwyf am gyfrannu mwy na phris y tocyn\n							\n						\n							Dates | DyddiauWed Feb 26 Dydd Mercher Chwe -The Institute\, Llanfair Caereinion Fri Feb 28 Dydd gwener Chwe - Montgomery Town Hall | Neuadd Dref Trefaldwyn\n							\n						\n							Number of Families | Nifer y plant12345\n							\n						\n							Items | EitemauQty | MaintTotal | CyfanswmCardboard Crafting Extravaganza | Strafagansa Crefftio Cardbord[field55][field55*field53]Annual Charge $xxx\n							\n						\n							How did you hear about our project? | Sut glywsoch chi am y prosiect?Select An OptionFriend / Family member | Ffrind / aelod o'r teuluArts Connection Newsletter | Cylchlythyr Cysylltiad y CelfyddydauArts Connection website | Gwefan Arts ConnectionArts Connection - Cyswllt Celf Facebook Arts Connection - Cyswllt Celf TwitterArts Connection - Cyswllt Celf Instagram Another charity / community group social media | Cyfryngau cymdeithasol elusen / grŵp cymunedol arallOther | Arall\n							\n						\n							Please tick if you need support to access the project? // Ticiwch os oes angen cefnogaeth arnoch i gael mynediad i'r prosiect?Yes | Oes\n							\n						\n							I agree to the terms as set out in the Arts Connection - Cyswllt Celf Privacy Policy | Cytunaf â'r telerau a nodir yng Nghynllun Cyswllt Celfyddydau - Cyswllt Celf - https://artsconnection.org.uk/privacy-policy/Please Tick | Ticiwch\, Diolch\n							\n						\n							Submit\n							\n						\n					\n				\n			\n			\n				\n					\n					keyboard_arrow_leftPrevious\n				\n					\n					Nextkeyboard_arrow_right
URL:https://artsconnection.org.uk/event/craftcardllanfair/
LOCATION:The Institute\, Llanfair Caereinion\, The Institute\,\, Powys\, SY21 0RY\, United Kingdom
CATEGORIES:Workshop | Gweithdy
ATTACH;FMTTYPE=image/png:https://artsconnection.org.uk/wp-content/uploads/2025/01/CARDBOARD-CRAFTING-facebook-banner-refresh.png
END:VEVENT
END:VCALENDAR