BEGIN:VCALENDAR
VERSION:2.0
PRODID:-//Arts Connection - Cyswllt Celf - ECPv6.15.20//NONSGML v1.0//EN
CALSCALE:GREGORIAN
METHOD:PUBLISH
X-WR-CALNAME:Arts Connection - Cyswllt Celf
X-ORIGINAL-URL:https://artsconnection.org.uk
X-WR-CALDESC:Events for Arts Connection - Cyswllt Celf
REFRESH-INTERVAL;VALUE=DURATION:PT1H
X-Robots-Tag:noindex
X-PUBLISHED-TTL:PT1H
BEGIN:VTIMEZONE
TZID:Europe/London
BEGIN:DAYLIGHT
TZOFFSETFROM:+0000
TZOFFSETTO:+0100
TZNAME:BST
DTSTART:20240331T010000
END:DAYLIGHT
BEGIN:STANDARD
TZOFFSETFROM:+0100
TZOFFSETTO:+0000
TZNAME:GMT
DTSTART:20241027T010000
END:STANDARD
BEGIN:DAYLIGHT
TZOFFSETFROM:+0000
TZOFFSETTO:+0100
TZNAME:BST
DTSTART:20250330T010000
END:DAYLIGHT
BEGIN:STANDARD
TZOFFSETFROM:+0100
TZOFFSETTO:+0000
TZNAME:GMT
DTSTART:20251026T010000
END:STANDARD
BEGIN:DAYLIGHT
TZOFFSETFROM:+0000
TZOFFSETTO:+0100
TZNAME:BST
DTSTART:20260329T010000
END:DAYLIGHT
BEGIN:STANDARD
TZOFFSETFROM:+0100
TZOFFSETTO:+0000
TZNAME:GMT
DTSTART:20261025T010000
END:STANDARD
END:VTIMEZONE
BEGIN:VEVENT
DTSTART;TZID=Europe/London:20250729T100000
DTEND;TZID=Europe/London:20250729T120000
DTSTAMP:20260422T031902
CREATED:20250317T143634Z
LAST-MODIFIED:20250718T125704Z
UID:10001129-1753783200-1753790400@artsconnection.org.uk
SUMMARY:Messy Play | Chwarae Anniben - Llanfair Caereinion
DESCRIPTION:Messy and sensory play and fun – feel free to stay or just drop in! | Chwarae anniben a synhwyraidd a hwyl – croeso i chi aros neu dim ond galw heibio! \nAt this messy play session we will explore | Yn y sesiwn chwarae llanast yma\, byddwn ni’n cael sbri yn archwilio: \n🌈 A rainbow cereal forest |  Fforest rawnfwyd enfys \n🌊 A spaghetti sea and crunchy rice crispy beach | Môr sbageti a thraeth reis crensian \n🐸 Chia seed slime pond | Pwll llysnafedd efo hadau chia \nOur less messy activities will include | Bydd gweithgareddau llai llanastus yn cynnwys: : \n👐Sensory bags |  Bagiau synhwyraidd \n💧 Water mat | Mat dŵ \nAnd more! | A mwy eto! \n  \nPlease come dressed to get messy! Plîs dewch wedi gwisgo i fod yn flêr! \nBooking essential! You may be turned away if event is at capacity | Rhaid archebu! Efallai y cewch eich gwrthod os yw’r digwyddiad yn llawn. \nFunded by the Playworks Holiday Project | Ei ariannu gan Prosiect Gwyliau Gwaith Chwarae \n👶 Babies & Toddlers | Babanod a phlant bach \n📅 Tuesday 29 July | Dydd Mawrth 29 Gorffennaf \n⏰ 10am – 12pm \n📍 The Institute\, Llanfair Caereinion \n💷 Free | Am ddim \nPeople | Pobl – Bryony Wesson \nBook | Cofrestru: \nThis form does not exist
URL:https://artsconnection.org.uk/event/messyplaylc/
LOCATION:The Institute\, Llanfair Caereinion\, The Institute\,\, Powys\, SY21 0RY\, United Kingdom
CATEGORIES:Workshop | Gweithdy
ATTACH;FMTTYPE=image/png:https://artsconnection.org.uk/wp-content/uploads/2025/03/1-1.png
END:VEVENT
END:VCALENDAR