BEGIN:VCALENDAR
VERSION:2.0
PRODID:-//Arts Connection - Cyswllt Celf - ECPv6.15.20//NONSGML v1.0//EN
CALSCALE:GREGORIAN
METHOD:PUBLISH
X-WR-CALNAME:Arts Connection - Cyswllt Celf
X-ORIGINAL-URL:https://artsconnection.org.uk
X-WR-CALDESC:Events for Arts Connection - Cyswllt Celf
REFRESH-INTERVAL;VALUE=DURATION:PT1H
X-Robots-Tag:noindex
X-PUBLISHED-TTL:PT1H
BEGIN:VTIMEZONE
TZID:Europe/London
BEGIN:DAYLIGHT
TZOFFSETFROM:+0000
TZOFFSETTO:+0100
TZNAME:BST
DTSTART:20240331T010000
END:DAYLIGHT
BEGIN:STANDARD
TZOFFSETFROM:+0100
TZOFFSETTO:+0000
TZNAME:GMT
DTSTART:20241027T010000
END:STANDARD
BEGIN:DAYLIGHT
TZOFFSETFROM:+0000
TZOFFSETTO:+0100
TZNAME:BST
DTSTART:20250330T010000
END:DAYLIGHT
BEGIN:STANDARD
TZOFFSETFROM:+0100
TZOFFSETTO:+0000
TZNAME:GMT
DTSTART:20251026T010000
END:STANDARD
BEGIN:DAYLIGHT
TZOFFSETFROM:+0000
TZOFFSETTO:+0100
TZNAME:BST
DTSTART:20260329T010000
END:DAYLIGHT
BEGIN:STANDARD
TZOFFSETFROM:+0100
TZOFFSETTO:+0000
TZNAME:GMT
DTSTART:20261025T010000
END:STANDARD
END:VTIMEZONE
BEGIN:VEVENT
DTSTART;TZID=Europe/London:20250805T103000
DTEND;TZID=Europe/London:20250805T123000
DTSTAMP:20260422T031913
CREATED:20250716T131114Z
LAST-MODIFIED:20250717T093339Z
UID:10001380-1754389800-1754397000@artsconnection.org.uk
SUMMARY:Wrth y Môr | Beside the Seaside - Family Arts | Celfyddydau Teulu
DESCRIPTION:🏖️ We’ll be bringing the beach to you this summer with our seaside family arts workshop! | Byddwn ni’n dod â’r traeth atoch chi’r haf hwn gyda’n gweithdy celf i’r teulu ar thema’r môr! 🌊 \nAll workshops are delivered bilingually | Cyflwynir pob gweithdy yn ddwyieithog \nThis project is funded by Social Value Forum\, Regional Partnership Board\, Welsh Government and PAVO | Mae’r prosiect hwn wedi’i ariannu gan Fforwm Gwerth Cymdeithasol\, Bwrdd Partneriaeth Rhanbarthol\, Llywodraeth Cymru a PAVO. \n🧵 Textiles | Tecstilau \n🎨  Arts & Crafts | Celfyddydau a Chrefftau \n🤲 Sensory play | Chwarae gyda’r synhwyrau \nPeople | Pobl: Leanne Griffiths a Hannah Kate Smith \nAge | Oed: Most suitable 2+ but all ages welcome | Mwyaf addas 2+ ond croeso i bob oed  \n💷 £4 per family | £𝟰 𝘆 𝘁𝗲𝘂𝗹𝘂 \n⏰ Time | Amser: 10:30 am – 12:30 pm \n  \n📅 Tues 5 August | Dydd Mawrth 5 Awst \n📍 𝗡𝗲𝘂𝗮𝗱𝗱 𝗗𝗿𝗲𝗳 𝗧𝗿𝗲𝗳𝗮𝗹𝗱𝘄𝘆𝗻 | Montgomery | Town Hall \n  \n📅 Tues 12 August | Dydd Mawrth 12 Awst \n📍 The Institute\, Llanfair Caereinion \n  \n📅 Tues 19 August | Dydd Mawrth 19 Awst \n📍 Neuadd Goffa | Llangynog | Memorial Hall \n  \nBooking | Archebu: \nAny issues with this form or for more information\, please contact | Unrhyw broblemau gyda’r ffurflen hon neu am fwy o wybodaeth\, cysylltwch â: \n\n kerala@artsconnection.org.uk \n 01691 648929 \n 07814 523 521 \n\n\n				\n					\n						1\n						\n						\n					\n				\n			\n			\n			\n		\n			\n				\n					\n					\n						\n							Booking | Archebu - Wrth y Môr |  Beside the Seaside\n							\n						\n							Parent / Carer First Name | Rhiant / Gofalwr Enw Cyntaf\n							\n						\n							Parent / Carer Surname | Rhiant / Gofalwr Cyfenw\n							\n						\n							Parent / Carer Email | Rhiant / Gofalwr Ebostemail\n							\n						\n							Parent / Carer Phone | Rhiant / Gofalwr Ffônmobile or landline // ffôn symudol neu linell dir\n							\n						\n							Town | Tref\n							\n						\n							Please add the names and age of children attending below: | Ychwanegwch enwau ac oedran y plant sy'n mynychu isod:0 / \n							\n						\n							I agree that any photos\, film\, audio\, music or art works made by me or of me and the above-mentioned people produced through this project can be used by Arts Connection and their project funders (including PAVO and the Third Sector Support Wales) to be used in: Printed materials (such as reports\, publicity posters and leaflets)\, on the internet (social media channels\, website\, bulletins\, YouTube etc.) and for evidencing activities (we would share your image / video / audio with our funders as part of monitoring and evaluation).   |  Rwy’n cytuno y gall unrhyw luniau\, ffilmiau\, sain\, cerddoriaeth neu weithiau celf a wneir gennyf neu ohonof fi a’r bobl a enwir uchod\, a gynhyrchir drwy’r prosiect hwn\, gael eu defnyddio gan Cyswllt Celf a’u cyllidwyr prosiect (gan gynnwys PAVO a Chefnogaeth Trydydd Sector Cymru) i’w defnyddio yn: deunyddiau printiedig (fel adroddiadau\, posteri cyhoeddusrwydd a thaflenni)\, ar y rhyngrwyd (sianeli cyfryngau cymdeithasol\, gwefan\, bwletinau\, YouTube ac ati)\, ar gyfer gweithgareddau tystiolaethu (byddem yn rhannu eich delwedd / fideo / sain gyda'n harianwyr fel rhan o'r gwaith monitro a gwerthuso).Yes | OesNo | Nac Ydw\n							\n						\n							Tickets | Tocynnau£4£6 - I want to donate more than the ticket price | Rwyf am gyfrannu mwy na phris y tocyn£10 - I want to donate more than the ticket price | Rwyf am gyfrannu mwy na phris y tocyn\n							\n						\n							Dates | DyddiauTues 5 August | Dydd Mawrth 5 Awst - 𝗡𝗲𝘂𝗮𝗱𝗱 𝗗𝗿𝗲𝗳 𝗧𝗿𝗲𝗳𝗮𝗹𝗱𝘄𝘆𝗻 | Montgomery | Town Hall  Tues 12 August | Dydd Mawrth 12 Awst - The Institute\, Llanfair CaereinionTues 19 August | Dydd Mawrth 19 Awst - Neuadd Goffa | Llangynog | Memorial Hall\n							\n						\n							Items | EitemauQty | MaintTotal | CyfanswmWrth y Môr |  Beside the Seaside[field60][field60*field53]Annual Charge $xxx\n							\n						\n							How did you hear about our project? | Sut glywsoch chi am y prosiect?Select An OptionFriend / Family member | Ffrind / aelod o'r teuluArts Connection Newsletter | Cylchlythyr Cysylltiad y CelfyddydauArts Connection website | Gwefan Arts ConnectionArts Connection - Cyswllt Celf Facebook Arts Connection - Cyswllt Celf TwitterArts Connection - Cyswllt Celf Instagram Another charity / community group social media | Cyfryngau cymdeithasol elusen / grŵp cymunedol arallOther | Arall\n							\n						\n							Please tick if you need support to access the project? // Ticiwch os oes angen cefnogaeth arnoch i gael mynediad i'r prosiect?Yes | Oes\n							\n						\n							I agree to the terms as set out in the Arts Connection - Cyswllt Celf Privacy Policy | Cytunaf â'r telerau a nodir yng Nghynllun Cyswllt Celfyddydau - Cyswllt Celf - https://artsconnection.org.uk/privacy-policy/Please Tick | Ticiwch\, Diolch\n							\n						\n							Submit\n							\n						\n					\n				\n			\n			\n				\n					\n					keyboard_arrow_leftPrevious\n				\n					\n					Nextkeyboard_arrow_right
URL:https://artsconnection.org.uk/event/wrthymor/
LOCATION:Montgomery Town Hall\, Montgomery Town Hall\, Powys\, SY15 6PH\, United Kingdom
CATEGORIES:Workshop | Gweithdy
ATTACH;FMTTYPE=image/png:https://artsconnection.org.uk/wp-content/uploads/2025/07/Seaside-family-Arts-Facebook-Cover-2.png
END:VEVENT
END:VCALENDAR