BEGIN:VCALENDAR
VERSION:2.0
PRODID:-//Arts Connection - Cyswllt Celf - ECPv6.15.20//NONSGML v1.0//EN
CALSCALE:GREGORIAN
METHOD:PUBLISH
X-WR-CALNAME:Arts Connection - Cyswllt Celf
X-ORIGINAL-URL:https://artsconnection.org.uk
X-WR-CALDESC:Events for Arts Connection - Cyswllt Celf
REFRESH-INTERVAL;VALUE=DURATION:PT1H
X-Robots-Tag:noindex
X-PUBLISHED-TTL:PT1H
BEGIN:VTIMEZONE
TZID:Europe/London
BEGIN:DAYLIGHT
TZOFFSETFROM:+0000
TZOFFSETTO:+0100
TZNAME:BST
DTSTART:20240331T010000
END:DAYLIGHT
BEGIN:STANDARD
TZOFFSETFROM:+0100
TZOFFSETTO:+0000
TZNAME:GMT
DTSTART:20241027T010000
END:STANDARD
BEGIN:DAYLIGHT
TZOFFSETFROM:+0000
TZOFFSETTO:+0100
TZNAME:BST
DTSTART:20250330T010000
END:DAYLIGHT
BEGIN:STANDARD
TZOFFSETFROM:+0100
TZOFFSETTO:+0000
TZNAME:GMT
DTSTART:20251026T010000
END:STANDARD
BEGIN:DAYLIGHT
TZOFFSETFROM:+0000
TZOFFSETTO:+0100
TZNAME:BST
DTSTART:20260329T010000
END:DAYLIGHT
BEGIN:STANDARD
TZOFFSETFROM:+0100
TZOFFSETTO:+0000
TZNAME:GMT
DTSTART:20261025T010000
END:STANDARD
END:VTIMEZONE
BEGIN:VEVENT
DTSTART;TZID=Europe/London:20250814T140000
DTEND;TZID=Europe/London:20250814T160000
DTSTAMP:20260422T031920
CREATED:20250702T141929Z
LAST-MODIFIED:20250710T091956Z
UID:10001355-1755180000-1755187200@artsconnection.org.uk
SUMMARY:Prosiect Murlun | Mural Project - Rhiwhiriaeth
DESCRIPTION:Rhiwhiriaeth celebrates 150 years with a community mural | Rhiwhiriaeth yn dathlu 150 mlynedd gyda murlun cymunedol \n🎨🖌️ Family Art Workshops with Elin Gittins | Gweithdai Celf i’r Teulu gydag Elin Gittins \n🎶🍪🤝 To design and create a lasting memento in the form of a mural to be mounted on the outside wall of the Centre | Dylunio a chreu atgof parhaol ar ffurf murlun i’w osod ar wal allanol y Ganolfan \nWe’re teaming up with Rhiwhiriaeth Community Centre (who are celebrating 150 YEARS!) to co-create a mural with young people – led by you. Come design\, draw and paint something that will brighten up the community for years to come. No experience needed\, just good energy! | Rydym yn ymuno â Canolfan Gymunedol Rhiwhiriaeth (sy’n dathlu 150 MLYNEDD!) i gyd-greu murlun gyda phobl ifanc – dan arweiniad chi. Dewch i ddylunio\, tynnu llun a phaentio rhywbeth a fydd yn bywiogi’r gymuned am flynyddoedd i ddod. Dim angen profiad\, dim ond egni da! \n📍 Where? | Ble? Canolfan Gymunedol | Rhiwhiriaeth | Community Centre | SY21 0DR – What 3 Words | Pa 3 Gair – ///hike.reclusive.townhouse \n👥 Open to children and young people and families | Ar agor i blant a phobl ifanc a theuluoedd \n💷 FREE | AM DDIM \n🗓️ Dates | Dyddiadau: \n\nWed 30 July | Dydd Mercher 30 Gorff – 2 – 4pm\nWed 6 Aug | Dydd Mercher 6 Awst – 2 – 4pm\nTue 12 Aug | Dydd Mawrth 12 Awst – 2 – 4pm\nThursday 14 Aug | Dydd Iau 15 Awst – 2 – 4pm\nTue 19 Aug | Dydd Mawrth 19 Awst – 2 – 4pm\n\n💥 Drop in\, chill out and help create something amazing | Galwch heibio\, ymlaciwch\, a helpwch i greu rhywbeth anhygoel 🎧 🎨 🎂 🎤 ✏️ 🧃 👟 \nArranged by Arts Connection and funded by the National Lottery\, Awards for All\, Wales \nBook | Cofrestru: \nThis form does not exist
URL:https://artsconnection.org.uk/event/prosiect-murlun-mural-project-rhiwhiriaeth-3/
LOCATION:Rhiwhiriaeth Community Centre\, Rhiwhiriaeth\, Powys\, SY21 0DR\, United Kingdom
CATEGORIES:Workshop | Gweithdy
ATTACH;FMTTYPE=image/png:https://artsconnection.org.uk/wp-content/uploads/2025/07/Rhiw-Mural-Poster-Facebook-Cover.png
END:VEVENT
END:VCALENDAR