BEGIN:VCALENDAR
VERSION:2.0
PRODID:-//Arts Connection - Cyswllt Celf - ECPv6.15.20//NONSGML v1.0//EN
CALSCALE:GREGORIAN
METHOD:PUBLISH
X-WR-CALNAME:Arts Connection - Cyswllt Celf
X-ORIGINAL-URL:https://artsconnection.org.uk
X-WR-CALDESC:Events for Arts Connection - Cyswllt Celf
REFRESH-INTERVAL;VALUE=DURATION:PT1H
X-Robots-Tag:noindex
X-PUBLISHED-TTL:PT1H
BEGIN:VTIMEZONE
TZID:Europe/London
BEGIN:DAYLIGHT
TZOFFSETFROM:+0000
TZOFFSETTO:+0100
TZNAME:BST
DTSTART:20240331T010000
END:DAYLIGHT
BEGIN:STANDARD
TZOFFSETFROM:+0100
TZOFFSETTO:+0000
TZNAME:GMT
DTSTART:20241027T010000
END:STANDARD
BEGIN:DAYLIGHT
TZOFFSETFROM:+0000
TZOFFSETTO:+0100
TZNAME:BST
DTSTART:20250330T010000
END:DAYLIGHT
BEGIN:STANDARD
TZOFFSETFROM:+0100
TZOFFSETTO:+0000
TZNAME:GMT
DTSTART:20251026T010000
END:STANDARD
BEGIN:DAYLIGHT
TZOFFSETFROM:+0000
TZOFFSETTO:+0100
TZNAME:BST
DTSTART:20260329T010000
END:DAYLIGHT
BEGIN:STANDARD
TZOFFSETFROM:+0100
TZOFFSETTO:+0000
TZNAME:GMT
DTSTART:20261025T010000
END:STANDARD
END:VTIMEZONE
BEGIN:VEVENT
DTSTART;TZID=Europe/London:20250822T100000
DTEND;TZID=Europe/London:20250822T120000
DTSTAMP:20260422T031915
CREATED:20250718T131430Z
LAST-MODIFIED:20250718T131430Z
UID:10001385-1755856800-1755864000@artsconnection.org.uk
SUMMARY:Messy Play | Chwarae Anniben - Llanfyllin
DESCRIPTION:Messy and sensory play and fun – feel free to stay or just drop in! | Chwarae anniben a synhwyraidd a hwyl – croeso i chi aros neu dim ond galw heibio! \nAt this messy play session we will explore | Yn y sesiwn chwarae llanast yma\, byddwn ni’n cael sbri yn archwilio: \n🌈 A rainbow cereal forest | Fforest rawnfwyd enfys \n🌊 A spaghetti sea and crunchy rice crispy beach | Môr sbageti a thraeth reis crensian \n🐸 Chia seed slime pond | Pwll llysnafedd efo hadau chia \nOur less messy activities will include | Bydd gweithgareddau llai llanastus yn cynnwys: : \n👐Sensory bags | Bagiau synhwyraidd \n💧 Water mat | Mat dŵ \nAnd more! | A mwy eto! \nPlease come dressed to get messy! Plîs dewch wedi gwisgo i fod yn flêr! \nBooking essential! You may be turned away if event is at capacity | Rhaid archebu! Efallai y cewch eich gwrthod os yw’r digwyddiad yn llawn. \n👶 Babies & Toddlers | Babanod a phlant bach \n📅 Friday 22 August | Dydd Gwener 22 Awst \n⏰ 10am – 12pm \n📍 Y Dolydd | Llanfyllin | The Workhouse \n💷 £4 per family | £4 y teulu \nPeople | Pobl – Bryony Wesson \nBook | Cofrestru: \n\n				\n					\n						1\n						\n						\n					\n				\n			\n			\n			\n		\n			\n				\n					\n					\n						\n							Booking | Archebu - Messy Play | Chwarae Anniben - Llanfyllin\n							\n						\n							Parent / Carer First Name | Rhiant / Gofalwr Enw Cyntaf\n							\n						\n							Parent / Carer Surname | Rhiant / Gofalwr Cyfenw\n							\n						\n							Parent / Carer Email | Rhiant / Gofalwr Ebostemail\n							\n						\n							Parent / Carer Phone | Rhiant / Gofalwr Ffônmobile or landline // ffôn symudol neu linell dir\n							\n						\n							Town | Tref\n							\n						\n							Please add the names and age of children attending below: | Ychwanegwch enwau ac oedran y plant sy'n mynychu isod:0 / \n							\n						\n							I agree that any photos\, film\, music or art works made by me or of me and the above-mentioned people produced through this project can be used by Arts Connection to promote their participatory arts activities. Please tick which you are happy with | Rwy'n cytuno y gall unrhyw luniau\, ffilm\, cerddoriaeth neu weithiau celf a wnaed gennyf i neu gennyf i a'r bobl uchod a gynhyrchwyd trwy'r prosiect hwn gael eu defnyddio gan Arts Connection i hyrwyddo eu gweithgareddau celfyddydau cyfranogol. Ticiwch pa rai rydych chi'n hapus â nhw:Yes | OesNo | Nac Ydw\n							\n						\n							How did you hear about our project? | Sut glywsoch chi am y prosiect?Select An OptionFriend / Family member | Ffrind / aelod o'r teuluArts Connection Newsletter | Cylchlythyr Cysylltiad y CelfyddydauArts Connection website | Gwefan Arts ConnectionArts Connection - Cyswllt Celf Facebook Arts Connection - Cyswllt Celf TwitterArts Connection - Cyswllt Celf Instagram Another charity / community group social media | Cyfryngau cymdeithasol elusen / grŵp cymunedol arallOther | Arall\n							\n						\n							Please tick if you need support to access the project? // Ticiwch os oes angen cefnogaeth arnoch i gael mynediad i'r prosiect?Yes | Oes\n							\n						\n							I agree to the terms as set out in the Arts Connection - Cyswllt Celf Privacy Policy | Cytunaf â'r telerau a nodir yng Nghynllun Cyswllt Celfyddydau - Cyswllt Celf - https://artsconnection.org.uk/privacy-policy/Please Tick | Ticiwch\, Diolch\n							\n						\n							Submit\n							\n						\n					\n				\n			\n			\n				\n					\n					keyboard_arrow_leftPrevious\n				\n					\n					Nextkeyboard_arrow_right
URL:https://artsconnection.org.uk/event/messyplayllan/
LOCATION:Y Dolydd | The Workhouse\, Y Dolydd\, Llanfyllin\, Powys\, SY22 5LD\, United Kingdom
CATEGORIES:Workshop | Gweithdy
ATTACH;FMTTYPE=image/png:https://artsconnection.org.uk/wp-content/uploads/2025/07/Llanfyllin-Messy-Play-Summer-25-1920-x-1080-px.png
END:VEVENT
END:VCALENDAR