BEGIN:VCALENDAR
VERSION:2.0
PRODID:-//Arts Connection - Cyswllt Celf - ECPv6.15.20//NONSGML v1.0//EN
CALSCALE:GREGORIAN
METHOD:PUBLISH
X-ORIGINAL-URL:https://artsconnection.org.uk
X-WR-CALDESC:Events for Arts Connection - Cyswllt Celf
REFRESH-INTERVAL;VALUE=DURATION:PT1H
X-Robots-Tag:noindex
X-PUBLISHED-TTL:PT1H
BEGIN:VTIMEZONE
TZID:Europe/London
BEGIN:DAYLIGHT
TZOFFSETFROM:+0000
TZOFFSETTO:+0100
TZNAME:BST
DTSTART:20240331T010000
END:DAYLIGHT
BEGIN:STANDARD
TZOFFSETFROM:+0100
TZOFFSETTO:+0000
TZNAME:GMT
DTSTART:20241027T010000
END:STANDARD
BEGIN:DAYLIGHT
TZOFFSETFROM:+0000
TZOFFSETTO:+0100
TZNAME:BST
DTSTART:20250330T010000
END:DAYLIGHT
BEGIN:STANDARD
TZOFFSETFROM:+0100
TZOFFSETTO:+0000
TZNAME:GMT
DTSTART:20251026T010000
END:STANDARD
BEGIN:DAYLIGHT
TZOFFSETFROM:+0000
TZOFFSETTO:+0100
TZNAME:BST
DTSTART:20260329T010000
END:DAYLIGHT
BEGIN:STANDARD
TZOFFSETFROM:+0100
TZOFFSETTO:+0000
TZNAME:GMT
DTSTART:20261025T010000
END:STANDARD
END:VTIMEZONE
BEGIN:VEVENT
DTSTART;TZID=Europe/London:20251031T103000
DTEND;TZID=Europe/London:20251031T153000
DTSTAMP:20260421T221518
CREATED:20251002T112928Z
LAST-MODIFIED:20251029T203637Z
UID:10001396-1761906600-1761924600@artsconnection.org.uk
SUMMARY:Halloween | Calan Gaeaf - Family Arts | Celfyddydau Teulu - Llanfyllin
DESCRIPTION:Please note: Only afternoon slots still available! \nGet trick or treat ready with our Spooktacular Halloween workshop! | Paratowch ar gyfer tric o ddanteithion gyda’n gweithdy Calan Gaeaf Arswydus! \n🎨 Arts & crafts | Celf a chrefft \n\n🎃 Pumpkin carving | Cerfio pumpkin \n🖌️ Face painting | pwyntio wyneb \n Friday 31 Oct | Dydd Gwener 31 Hydref \n\n\n Slots Starting – 1.30pm / 2.30pm\n The Institute | Llanfyllin\n £4 per family | £4 y teulu\n\nPeople | Pobl: Caroline Lowe\, Leila Hodgson and Elin Gittins\n\n\n\n  \nKids Halloween Party | Parti Calan Gaeaf Plant  \nPop along after trick-or-treating in your spookiest costume and join us for our Halloween Party!  Enjoy party games\, a disco and refreshments! No need to book – just turn up! Cash payments accepted at the door. \nGwisgwch eich gwisg arswydus ac ymunwch â ni ar gyfer ein Parti Calan Gaeaf!  Darperir gemau parti\, disgo a lluniaeth. Does dim angen archebu lle – dewch draw! Derbynnir taliadau arian parod wrth y drws. \nFriday 31 October | Dydd Gwener 31 Hydref \n5.30 -7 .30pm \nPublic Institute\, Llanfyllin \n£2 per child | £2 y plant \n\n\nAny issues with this form or for more information\, please contact | Unrhyw broblemau gyda’r ffurflen hon neu am fwy o wybodaeth\, cysylltwch â:\n\n\n 01691 648929 | 07814 523 521 kerala@artsconnection.org.uk\n\n\n\n\n				\n					\n						1\n						\n						\n					\n				\n			\n			\n			\n		\n			\n				\n					\n					\n						\n							Halloween | Calan Gaeaf - Family Arts | Celfyddydau Teulu - Llanfyllin\n							\n						\n							Parent / Carer First Name | Rhiant / Gofalwr Enw Cyntaf\n							\n						\n							Parent / Carer Surname | Rhiant / Gofalwr Cyfenw\n							\n						\n							Parent / Carer Email | Rhiant / Gofalwr Ebostemail\n							\n						\n							Parent / Carer Phone | Rhiant / Gofalwr Ffônmobile or landline // ffôn symudol neu linell dir\n							\n						\n							Town | Tref\n							\n						\n							Please add the names and age of children attending below: | Ychwanegwch enwau ac oedran y plant sy'n mynychu isod:0 / \n							\n						\n							Time Slot |  Slot AmserSelect one | Dewiswch un1.30pm2.30pm\n							\n						\n							I agree that any photos\, film\, music or art works made by me or of me and the above-mentioned people produced through this project can be used by Arts Connection to promote their participatory arts activities. Please tick which you are happy with | Rwy'n cytuno y gall unrhyw luniau\, ffilm\, cerddoriaeth neu weithiau celf a wnaed gennyf i neu gennyf i a'r bobl uchod a gynhyrchwyd trwy'r prosiect hwn gael eu defnyddio gan Arts Connection i hyrwyddo eu gweithgareddau celfyddydau cyfranogol. Ticiwch pa rai rydych chi'n hapus â nhw:Yes | OesNo | Nac Ydw\n							\n						\n							Tickets | Tocynnau£4£6 I want to donate more than the ticket price | Rwyf am gyfrannu mwy na phris y tocyn£10 - I want to donate more than the ticket price | Rwyf am gyfrannu mwy na phris y tocyn\n							\n						\n							Number of Families | Nifer y plant12345\n							\n						\n							Items | EitemauQty | MaintTotal | CyfanswmHalloween Llanfyllin[field55][field55*field53]Annual Charge $xxx\n							\n						\n							How did you hear about our project? | Sut glywsoch chi am y prosiect?Select An OptionFriend / Family member | Ffrind / aelod o'r teuluArts Connection Newsletter | Cylchlythyr Cysylltiad y CelfyddydauArts Connection website | Gwefan Arts ConnectionArts Connection - Cyswllt Celf Facebook Arts Connection - Cyswllt Celf TwitterArts Connection - Cyswllt Celf Instagram Another charity / community group social media | Cyfryngau cymdeithasol elusen / grŵp cymunedol arallOther | Arall\n							\n						\n							Please tick if you need support to access the project? // Ticiwch os oes angen cefnogaeth arnoch i gael mynediad i'r prosiect?Yes | Oes\n							\n						\n							I agree to the terms as set out in the Arts Connection - Cyswllt Celf Privacy Policy | Cytunaf â'r telerau a nodir yng Nghynllun Cyswllt Celfyddydau - Cyswllt Celf - https://artsconnection.org.uk/privacy-policy/Please Tick | Ticiwch\, Diolch\n							\n						\n							Submit\n							\n						\n					\n				\n			\n			\n				\n					\n					keyboard_arrow_leftPrevious\n				\n					\n					Nextkeyboard_arrow_right
URL:https://artsconnection.org.uk/event/halloweenllan25/
LOCATION:The Institute\, Llanfyllin\, High Street\, Llanfyllin\, Powys\, SY22 5AA\, United Kingdom
CATEGORIES:Workshop | Gweithdy
ATTACH;FMTTYPE=image/png:https://artsconnection.org.uk/wp-content/uploads/2025/10/Halloween-25-Poster-Facebook-Cover-llanfyllin.png
END:VEVENT
END:VCALENDAR