BEGIN:VCALENDAR
VERSION:2.0
PRODID:-//Arts Connection - Cyswllt Celf - ECPv6.15.20//NONSGML v1.0//EN
CALSCALE:GREGORIAN
METHOD:PUBLISH
X-ORIGINAL-URL:https://artsconnection.org.uk
X-WR-CALDESC:Events for Arts Connection - Cyswllt Celf
REFRESH-INTERVAL;VALUE=DURATION:PT1H
X-Robots-Tag:noindex
X-PUBLISHED-TTL:PT1H
BEGIN:VTIMEZONE
TZID:Europe/London
BEGIN:DAYLIGHT
TZOFFSETFROM:+0000
TZOFFSETTO:+0100
TZNAME:BST
DTSTART:20250330T010000
END:DAYLIGHT
BEGIN:STANDARD
TZOFFSETFROM:+0100
TZOFFSETTO:+0000
TZNAME:GMT
DTSTART:20251026T010000
END:STANDARD
BEGIN:DAYLIGHT
TZOFFSETFROM:+0000
TZOFFSETTO:+0100
TZNAME:BST
DTSTART:20260329T010000
END:DAYLIGHT
BEGIN:STANDARD
TZOFFSETFROM:+0100
TZOFFSETTO:+0000
TZNAME:GMT
DTSTART:20261025T010000
END:STANDARD
BEGIN:DAYLIGHT
TZOFFSETFROM:+0000
TZOFFSETTO:+0100
TZNAME:BST
DTSTART:20270328T010000
END:DAYLIGHT
BEGIN:STANDARD
TZOFFSETFROM:+0100
TZOFFSETTO:+0000
TZNAME:GMT
DTSTART:20271031T010000
END:STANDARD
END:VTIMEZONE
BEGIN:VEVENT
DTSTART;TZID=Europe/London:20260330T100000
DTEND;TZID=Europe/London:20260330T120000
DTSTAMP:20260421T144832
CREATED:20260112T163157Z
LAST-MODIFIED:20260316T152918Z
UID:10001423-1774864800-1774872000@artsconnection.org.uk
SUMMARY:Messy Play | Chwarae Anniben
DESCRIPTION:Create and explore in our messy\, sensory and craft session for the under 5s | Dewch i greu ac archwilio yn ein sesiwn synhwyraidd\, grefftus a llawn llanast i blant dan 5 oed  \n  \n Feel free to stay or just drop in |  Croeso i chi aros neu dim ond galw heibio! \nPlease come dressed to get messy and bring a towel to dry off! 🧼 👕 Dewch wedi gwisgo i fod yn flêr a dewch â thywel i sychu! \nBooking essential! You may be turned away if event is at capacity | Rhaid archebu! Efallai y cewch eich gwrthod os yw’r digwyddiad yn llawn. \n🕙10am – 12pm \n\n\n🗓️Monday 30 March | Dydd Llun 30 Mawrth \n\n\n📍The Institute\, Llanfair Caereinion \n🗓️Tuesday 31 March | Dydd Mawrth 31 Mawrth \n\n\nWelshpool Integrated Family Centre | Canolfan Integredig i Deuluoedd Y Trallwng \n💷 Free | Am Ddim \nFunded by the Playworks Holiday Project | Ei ariannu gan Prosiect Gwyliau Gwaith Chwarae \n  \n\n\n				\n					\n						1\n						\n						\n					\n				\n			\n			\n			\n		\n			\n				\n					\n					\n						\n							Booking | Archebu - Messy Play | Chwarae Anniben- Easter\n							\n						\n							Parent / Carer First Name | Rhiant / Gofalwr Enw Cyntaf\n							\n						\n							Parent / Carer Surname | Rhiant / Gofalwr Cyfenw\n							\n						\n							Parent / Carer Email | Rhiant / Gofalwr Ebostemail\n							\n						\n							Parent / Carer Phone | Rhiant / Gofalwr Ffônmobile or landline // ffôn symudol neu linell dir\n							\n						\n							Town | Tref\n							\n						\n							Please add the names and age of children attending below: | Ychwanegwch enwau ac oedran y plant sy'n mynychu isod:0 / \n							\n						\n							Date  | DyddiadMon 30 March | Dydd Llun 30 Mawrth - Llanfair CaereinionTues 31 March | Dydd Mawrth 31 Mawrth - Welshpool\n							\n						\n							I agree that any photos\, film\, music or art works made by me or of me and the above-mentioned people produced through this project can be used by Arts Connection to promote their participatory arts activities. Please tick which you are happy with | Rwy'n cytuno y gall unrhyw luniau\, ffilm\, cerddoriaeth neu weithiau celf a wnaed gennyf i neu gennyf i a'r bobl uchod a gynhyrchwyd trwy'r prosiect hwn gael eu defnyddio gan Arts Connection i hyrwyddo eu gweithgareddau celfyddydau cyfranogol. Ticiwch pa rai rydych chi'n hapus â nhw:Yes | OesNo | Nac Ydw\n							\n						\n							How did you hear about our project? | Sut glywsoch chi am y prosiect?Select An OptionFriend / Family member | Ffrind / aelod o'r teuluArts Connection Newsletter | Cylchlythyr Cysylltiad y CelfyddydauArts Connection website | Gwefan Arts ConnectionArts Connection - Cyswllt Celf Facebook Arts Connection - Cyswllt Celf TwitterArts Connection - Cyswllt Celf Instagram Another charity / community group social media | Cyfryngau cymdeithasol elusen / grŵp cymunedol arallOther | Arall\n							\n						\n							Please tick if you need support to access the project? // Ticiwch os oes angen cefnogaeth arnoch i gael mynediad i'r prosiect?Yes | Oes\n							\n						\n							I agree to the terms as set out in the Arts Connection - Cyswllt Celf Privacy Policy | Cytunaf â'r telerau a nodir yng Nghynllun Cyswllt Celfyddydau - Cyswllt Celf - https://artsconnection.org.uk/privacy-policy/Please Tick | Ticiwch\, Diolch\n							\n						\n							Submit\n							\n						\n					\n				\n			\n			\n				\n					\n					keyboard_arrow_leftPrevious\n				\n					\n					Nextkeyboard_arrow_right
URL:https://artsconnection.org.uk/event/messyeaster/2026-03-30/
LOCATION:The Institute\, Llanfair Caereinion\, The Institute\,\, Powys\, SY21 0RY\, United Kingdom
CATEGORIES:Workshop | Gweithdy
ATTACH;FMTTYPE=image/png:https://artsconnection.org.uk/wp-content/uploads/2026/01/1.png
END:VEVENT
END:VCALENDAR