BEGIN:VCALENDAR
VERSION:2.0
PRODID:-//Arts Connection - Cyswllt Celf - ECPv6.15.20//NONSGML v1.0//EN
CALSCALE:GREGORIAN
METHOD:PUBLISH
X-ORIGINAL-URL:https://artsconnection.org.uk
X-WR-CALDESC:Events for Arts Connection - Cyswllt Celf
REFRESH-INTERVAL;VALUE=DURATION:PT1H
X-Robots-Tag:noindex
X-PUBLISHED-TTL:PT1H
BEGIN:VTIMEZONE
TZID:Europe/London
BEGIN:DAYLIGHT
TZOFFSETFROM:+0000
TZOFFSETTO:+0100
TZNAME:BST
DTSTART:20230326T010000
END:DAYLIGHT
BEGIN:STANDARD
TZOFFSETFROM:+0100
TZOFFSETTO:+0000
TZNAME:GMT
DTSTART:20231029T010000
END:STANDARD
BEGIN:DAYLIGHT
TZOFFSETFROM:+0000
TZOFFSETTO:+0100
TZNAME:BST
DTSTART:20240331T010000
END:DAYLIGHT
BEGIN:STANDARD
TZOFFSETFROM:+0100
TZOFFSETTO:+0000
TZNAME:GMT
DTSTART:20241027T010000
END:STANDARD
BEGIN:DAYLIGHT
TZOFFSETFROM:+0000
TZOFFSETTO:+0100
TZNAME:BST
DTSTART:20250330T010000
END:DAYLIGHT
BEGIN:STANDARD
TZOFFSETFROM:+0100
TZOFFSETTO:+0000
TZNAME:GMT
DTSTART:20251026T010000
END:STANDARD
END:VTIMEZONE
BEGIN:VEVENT
DTSTART;TZID=Europe/London:20241029T130000
DTEND;TZID=Europe/London:20241029T150000
DTSTAMP:20260421T152952
CREATED:20240925T091040Z
LAST-MODIFIED:20240926T084240Z
UID:10000802-1730206800-1730214000@artsconnection.org.uk
SUMMARY:The Greatest Showman (Sing-a-Long) Relaxed Screening | 2017 | 1h 45m | PG | Michael Gracey
DESCRIPTION:The Greatest Showman (Sing-a-Long) Relaxed Screening | 2017 | 1h 45m | PG | Michael Gracey \nAudience members are welcome to leave their seats\, make noise and move around as they wish. \n\n\n\n\nP T Barnum becomes a worldwide sensation in the show business. His imagination and innovative ideas take him to the top of his game.\n\n\n\n\n\n\n\nWhy not come along dressed for the circus!\n\n\n📍 The Old New Inn\, High Street\, Llanfyllin\, SY22 5AA \n📅 Tuesday 29 Oct\, 1pm – doors open 12.30pm \n💰 £5 a ticket (£3 under 18s) – on the door
URL:https://artsconnection.org.uk/event/the-greatest-showman-sing-a-long-relaxed-screening-2017-1h-45m-pg-michael-gracey/
LOCATION:The Old New Inn\, The Old New Inn\, Llanfyllin\, Powys\, SY22 5AA\, United Kingdom
CATEGORIES:Film | Ffilm
END:VEVENT
BEGIN:VEVENT
DTSTART;TZID=Europe/London:20241024T130000
DTEND;TZID=Europe/London:20241024T150000
DTSTAMP:20260421T152952
CREATED:20240814T123812Z
LAST-MODIFIED:20241002T085716Z
UID:10000773-1729774800-1729782000@artsconnection.org.uk
SUMMARY:Wild @ Heart
DESCRIPTION:Walk & Art sessions for people with dementia and their carers | Sesiynau Cerdded a Chelf i bobl â dementia a’u gofalwyr \nJoin us for a gentle stroll through nature followed by creative activities and refreshments | Ymunwch â ni am dro hamddenol trwy natur i ddilyn trwy weithgareddau creadigol a lluniaeth \nwith Ezma Zhao \nFREE | AM DDIM \n1 – 3pm \nPowis Castle – Brewhouse \nThursday Sep 12 Dydd Iau Medi \nThursday Sep 26 Dydd Iau Medi \nThursday Oct 10 Dydd Iau Hydref \nThursday Oct 24 Dydd Iau Hydref \n  \nGlanhafren – Newtown \nThursday Sep 19 Dydd Iau Medi \nThursday Oct 3 Dydd Iau Hydref \nThursday Oct 17 Dydd Iau Hydref \nThursday Oct 31 Dydd Iau Hydref \nBook | Cofrestru: \nThis form does not exist
URL:https://artsconnection.org.uk/event/wild-heart-4/
LOCATION:Powis Castle\, Welshpool\, SY21 8RF\, United Kingdom
CATEGORIES:Workshop | Gweithdy
END:VEVENT
BEGIN:VEVENT
DTSTART;TZID=Europe/London:20241024T100000
DTEND;TZID=Europe/London:20241024T130000
DTSTAMP:20260421T152952
CREATED:20240912T102402Z
LAST-MODIFIED:20240912T103011Z
UID:10000794-1729764000-1729774800@artsconnection.org.uk
SUMMARY:Ffilmic Exhibition
DESCRIPTION:Ffilmic Exhibition \nFfilmic invites people living in and around the Tanat Valley to creatively capture and be inspired by their surroundings. This year Ffilmic featured two strands: A Photography Competition and an Open Arts Competition. \nWe would like to thank everybody who took part in Ffilmic 2024. All of the entries will feature in our exhibition at Capel Moriah (Llanfyllin)\, see below for dates: \n10th\, 11th\, 17th & 24th October\, 10am-1pm \nOn Friday 11th October\, we would like to invite members of the public to the exhibition to choose their favourite pieces for the ‘People’s Vote’ prize. All of the winning entries will then be announced later that day at our prize evening\, also at Capel Moriah at 7pm. \nThank you to Llanfyllin Town Council and Llanfyllin Spar for supporting us this year! \nMae Ffilmic yn gwahodd pobl sy’n byw yn Nyffryn Tanat a’r cyffiniau i ddal yn greadigol a chael eu hysbrydoli gan eu hamgylchedd. Eleni roedd Ffilmic yn cynnwys dwy gainc: Cystadleuaeth Ffotograffiaeth a Chystadleuaeth Celfyddydau Agored.  \nHoffem ddiolch i bawb a gymerodd ran yn Ffilmic 2024. Bydd yr holl gynigion yn ymddangos yn ein harddangosfa yng Nghapel Moriah (Llanfyllin)\, gweler isod am ddyddiadau:  \n10\, 11\, 17 a 24 Hydref\, 10am-1pm  \nDdydd Gwener 11 Hydref\, hoffem wahodd aelodau o’r cyhoedd i’r arddangosfa i ddewis eu hoff ddarnau ar gyfer gwobr ‘Pleidlais y Bobl’. Bydd yr holl gynigion buddugol wedyn yn cael eu cyhoeddi yn ddiweddarach y diwrnod hwnnw yn ein noson wobrwyo\, hefyd yng Nghapel Moriah am 7pm.  \nDiolch i Gyngor Tref Llanfyllin a Llanfyllin Spar am ein cefnogi eleni!
URL:https://artsconnection.org.uk/event/ffilmic-exhibition-prize-evening/2024-10-24/
LOCATION:Capel Moriah\, Llanfyllin\, SY22 5BN
CATEGORIES:Exhibition | Arddangosfa
ATTACH;FMTTYPE=image/png:https://artsconnection.org.uk/wp-content/uploads/2024/09/Ffilmic-Exhibition-Poster-24-1920-x-1080-px.png
END:VEVENT
END:VCALENDAR