BEGIN:VCALENDAR
VERSION:2.0
PRODID:-//Arts Connection - Cyswllt Celf - ECPv6.15.20//NONSGML v1.0//EN
CALSCALE:GREGORIAN
METHOD:PUBLISH
X-WR-CALNAME:Arts Connection - Cyswllt Celf
X-ORIGINAL-URL:https://artsconnection.org.uk
X-WR-CALDESC:Events for Arts Connection - Cyswllt Celf
REFRESH-INTERVAL;VALUE=DURATION:PT1H
X-Robots-Tag:noindex
X-PUBLISHED-TTL:PT1H
BEGIN:VTIMEZONE
TZID:Europe/London
BEGIN:DAYLIGHT
TZOFFSETFROM:+0000
TZOFFSETTO:+0100
TZNAME:BST
DTSTART:20230326T010000
END:DAYLIGHT
BEGIN:STANDARD
TZOFFSETFROM:+0100
TZOFFSETTO:+0000
TZNAME:GMT
DTSTART:20231029T010000
END:STANDARD
BEGIN:DAYLIGHT
TZOFFSETFROM:+0000
TZOFFSETTO:+0100
TZNAME:BST
DTSTART:20240331T010000
END:DAYLIGHT
BEGIN:STANDARD
TZOFFSETFROM:+0100
TZOFFSETTO:+0000
TZNAME:GMT
DTSTART:20241027T010000
END:STANDARD
BEGIN:DAYLIGHT
TZOFFSETFROM:+0000
TZOFFSETTO:+0100
TZNAME:BST
DTSTART:20250330T010000
END:DAYLIGHT
BEGIN:STANDARD
TZOFFSETFROM:+0100
TZOFFSETTO:+0000
TZNAME:GMT
DTSTART:20251026T010000
END:STANDARD
END:VTIMEZONE
BEGIN:VEVENT
DTSTART;TZID=Europe/London:20241031T173000
DTEND;TZID=Europe/London:20241031T190000
DTSTAMP:20260422T111943
CREATED:20241022T091941Z
LAST-MODIFIED:20241022T091941Z
UID:10000809-1730395800-1730401200@artsconnection.org.uk
SUMMARY:Kids Halloween Party | Parti Calan Gaeaf Plant
DESCRIPTION:Wear your spookiest costume and join us for our Halloween Party! Party games\, disco\, arts and crafts\, glitter tattoos and refreshments provided. No need to book – just turn up! Cash payments accepted on the door\n\n\n\nGwisgwch eich gwisg arswydus ac ymunwch â ni ar gyfer ein Parti Calan Gaeaf! Darperir gemau parti\, disgo\, celf a chrefft\, tatŵs gliter a lluniaeth. Does dim angen archebu lle – dewch draw! Derbynnir taliadau arian parod wrth y drws\n\n\n\n\n\nThursday 31 October | dydd lau 31 Hydref \n5:30-7:00pm \nCain Valley Hotel\, Llanfyllin \n£4 per child | £4 y plant
URL:https://artsconnection.org.uk/event/kidshalloweenparty/
LOCATION:Cain Valley Hotel\, Llanfyllin
CATEGORIES:Event | Digwyddiad
END:VEVENT
END:VCALENDAR