BEGIN:VCALENDAR
VERSION:2.0
PRODID:-//Arts Connection - Cyswllt Celf - ECPv6.15.20//NONSGML v1.0//EN
CALSCALE:GREGORIAN
METHOD:PUBLISH
X-WR-CALNAME:Arts Connection - Cyswllt Celf
X-ORIGINAL-URL:https://artsconnection.org.uk
X-WR-CALDESC:Events for Arts Connection - Cyswllt Celf
REFRESH-INTERVAL;VALUE=DURATION:PT1H
X-Robots-Tag:noindex
X-PUBLISHED-TTL:PT1H
BEGIN:VTIMEZONE
TZID:Europe/London
BEGIN:DAYLIGHT
TZOFFSETFROM:+0000
TZOFFSETTO:+0100
TZNAME:BST
DTSTART:20230326T010000
END:DAYLIGHT
BEGIN:STANDARD
TZOFFSETFROM:+0100
TZOFFSETTO:+0000
TZNAME:GMT
DTSTART:20231029T010000
END:STANDARD
BEGIN:DAYLIGHT
TZOFFSETFROM:+0000
TZOFFSETTO:+0100
TZNAME:BST
DTSTART:20240331T010000
END:DAYLIGHT
BEGIN:STANDARD
TZOFFSETFROM:+0100
TZOFFSETTO:+0000
TZNAME:GMT
DTSTART:20241027T010000
END:STANDARD
BEGIN:DAYLIGHT
TZOFFSETFROM:+0000
TZOFFSETTO:+0100
TZNAME:BST
DTSTART:20250330T010000
END:DAYLIGHT
BEGIN:STANDARD
TZOFFSETFROM:+0100
TZOFFSETTO:+0000
TZNAME:GMT
DTSTART:20251026T010000
END:STANDARD
BEGIN:DAYLIGHT
TZOFFSETFROM:+0000
TZOFFSETTO:+0100
TZNAME:BST
DTSTART:20260329T010000
END:DAYLIGHT
BEGIN:STANDARD
TZOFFSETFROM:+0100
TZOFFSETTO:+0000
TZNAME:GMT
DTSTART:20261025T010000
END:STANDARD
END:VTIMEZONE
BEGIN:VEVENT
DTSTART;TZID=Europe/London:20251129T190000
DTEND;TZID=Europe/London:20251129T213000
DTSTAMP:20260420T092519
CREATED:20251104T170116Z
LAST-MODIFIED:20251105T154328Z
UID:10001402-1764442800-1764451800@artsconnection.org.uk
SUMMARY:Masquerade: Clue-less: A Murder at Swiftmore Manor
DESCRIPTION:🎭 Masquerade Presents: Clue-less – A Murder at Swiftmore Manor 🔎 \n🎭 Mae Masquerade yn cyflwyno: Clue-less – Llofruddiaeth yn Swiftmore Manor 🔎 \nMasquerade are back with their annual show— and this time\, they’re clue-less! Join us at Swiftmore Manor for an evening of mischief and mystery! \nMae Masquerade yn ôl gyda’u sioe flynyddol — ac y tro hwn\, maen nhw’n clue-less! Dewch i ymuno â ni yn Swiftmore Manor ar noson llawn dryswch a dirgelwch! \n\n\n\n\n\n\n 29 November | Tachwedd\n 7:00pm\n Theatr Llywn\, Llanfyllin\n £4 Tickets | Tocynnau (on the door | ar y drws)\n\n\n\n\nEveryone welcome! | Croeso i bob oed!\n\n 
URL:https://artsconnection.org.uk/event/clueless/
LOCATION:Theatre Llywn
ATTACH;FMTTYPE=image/jpeg:https://artsconnection.org.uk/wp-content/uploads/2025/11/Clue-less-fb-banner-1920-x-1080-px.jpeg
END:VEVENT
BEGIN:VEVENT
DTSTART;TZID=Europe/London:20241130T190000
DTEND;TZID=Europe/London:20241130T190000
DTSTAMP:20260420T092519
CREATED:20241016T101314Z
LAST-MODIFIED:20241016T101410Z
UID:10000808-1732993200-1732993200@artsconnection.org.uk
SUMMARY:Peter Pan (Masquerade Performance)
DESCRIPTION:Masquerade\, our Drama & Arts group for adults with learning disabilities\, are back with their annual Christmas show. This year\, they will be performing J.M. Barrie’s beloved novel ‘Peter Pan’ – a story full of adventure and mischief! The show will be followed by music from local musicians; Mark Harding and Jack Carroll. \nMae Masquerade\, ein grŵp Drama a Chelfyddydau ar gyfer oedolion ag anableddau dysgu\, yn ôl gyda’u sioe Nadolig flynyddol. Eleni\, byddant yn perfformio nofel annwyl J.M. Barrie\, ‘Peter Pan’ – stori llawn antur a direidi! Dilynir y sioe gan gerddoriaeth gan gerddorion lleol; Mark Harding a Jack Carroll. \n30 November | Tachwedd \n7:00pm \nTheatr Llywn\, Llanfyllin \n£3 Tickets | Tocynnau (on the door | ar y drws)
URL:https://artsconnection.org.uk/event/peterpan/
LOCATION:Theatre Llywn
CATEGORIES:Performance | Perfformiad
ATTACH;FMTTYPE=image/jpeg:https://artsconnection.org.uk/wp-content/uploads/2024/10/Peter-Pan-1920-x-1080-px.jpg
END:VEVENT
END:VCALENDAR