BEGIN:VCALENDAR
VERSION:2.0
PRODID:-//Arts Connection - Cyswllt Celf - ECPv6.15.20//NONSGML v1.0//EN
CALSCALE:GREGORIAN
METHOD:PUBLISH
X-WR-CALNAME:Arts Connection - Cyswllt Celf
X-ORIGINAL-URL:https://artsconnection.org.uk
X-WR-CALDESC:Events for Arts Connection - Cyswllt Celf
REFRESH-INTERVAL;VALUE=DURATION:PT1H
X-Robots-Tag:noindex
X-PUBLISHED-TTL:PT1H
BEGIN:VTIMEZONE
TZID:Europe/London
BEGIN:DAYLIGHT
TZOFFSETFROM:+0000
TZOFFSETTO:+0100
TZNAME:BST
DTSTART:20240331T010000
END:DAYLIGHT
BEGIN:STANDARD
TZOFFSETFROM:+0100
TZOFFSETTO:+0000
TZNAME:GMT
DTSTART:20241027T010000
END:STANDARD
BEGIN:DAYLIGHT
TZOFFSETFROM:+0000
TZOFFSETTO:+0100
TZNAME:BST
DTSTART:20250330T010000
END:DAYLIGHT
BEGIN:STANDARD
TZOFFSETFROM:+0100
TZOFFSETTO:+0000
TZNAME:GMT
DTSTART:20251026T010000
END:STANDARD
BEGIN:DAYLIGHT
TZOFFSETFROM:+0000
TZOFFSETTO:+0100
TZNAME:BST
DTSTART:20260329T010000
END:DAYLIGHT
BEGIN:STANDARD
TZOFFSETFROM:+0100
TZOFFSETTO:+0000
TZNAME:GMT
DTSTART:20261025T010000
END:STANDARD
END:VTIMEZONE
BEGIN:VEVENT
DTSTART;TZID=Europe/London:20250827T100000
DTEND;TZID=Europe/London:20250827T120000
DTSTAMP:20260419T205933
CREATED:20250124T143052Z
LAST-MODIFIED:20250722T084411Z
UID:10000960-1756288800-1756296000@artsconnection.org.uk
SUMMARY:Messy Play | Chwarae Anniben - Machynlleth
DESCRIPTION:  \nMessy Play – Machynlleth is now fully booked! Apologies for any disappointment!  \nMessy and sensory play and fun – feel free to stay or just drop in! | Chwarae anniben a synhwyraidd a hwyl – croeso i chi aros neu dim ond galw heibio! \nPlease come dressed to get messy! Plîs dewch wedi gwisgo i fod yn flêr! \nBooking essential! You may be turned away if event is at capacity | Rhaid archebu! Efallai y cewch eich gwrthod os yw’r digwyddiad yn llawn. \nFunded by the Playworks Holiday Project | Ei ariannu gan Prosiect Gwyliau Gwaith Chwarae \n👶 Babies & Toddlers | Babanod a phlant bach \n📅 Wednesday 27 August | Dydd Mercher 27 Awst \n⏰ 10am – 12pm \n📍 Y Plas | Machynlleth \n💷 Free | Am ddim \nPeople | Pobl – Monique Cronje \n  \n 
URL:https://artsconnection.org.uk/event/messyplaymach/
LOCATION:Y Plas\, Machynlleth\, Powys\, United Kingdom
CATEGORIES:Workshop | Gweithdy
ATTACH;FMTTYPE=image/png:https://artsconnection.org.uk/wp-content/uploads/2025/03/2-1.png
END:VEVENT
END:VCALENDAR