BEGIN:VCALENDAR
VERSION:2.0
PRODID:-//Arts Connection - Cyswllt Celf - ECPv6.15.20//NONSGML v1.0//EN
CALSCALE:GREGORIAN
METHOD:PUBLISH
X-ORIGINAL-URL:https://artsconnection.org.uk
X-WR-CALDESC:Events for Arts Connection - Cyswllt Celf
REFRESH-INTERVAL;VALUE=DURATION:PT1H
X-Robots-Tag:noindex
X-PUBLISHED-TTL:PT1H
BEGIN:VTIMEZONE
TZID:Europe/London
BEGIN:DAYLIGHT
TZOFFSETFROM:+0000
TZOFFSETTO:+0100
TZNAME:BST
DTSTART:20240331T010000
END:DAYLIGHT
BEGIN:STANDARD
TZOFFSETFROM:+0100
TZOFFSETTO:+0000
TZNAME:GMT
DTSTART:20241027T010000
END:STANDARD
BEGIN:DAYLIGHT
TZOFFSETFROM:+0000
TZOFFSETTO:+0100
TZNAME:BST
DTSTART:20250330T010000
END:DAYLIGHT
BEGIN:STANDARD
TZOFFSETFROM:+0100
TZOFFSETTO:+0000
TZNAME:GMT
DTSTART:20251026T010000
END:STANDARD
BEGIN:DAYLIGHT
TZOFFSETFROM:+0000
TZOFFSETTO:+0100
TZNAME:BST
DTSTART:20260329T010000
END:DAYLIGHT
BEGIN:STANDARD
TZOFFSETFROM:+0100
TZOFFSETTO:+0000
TZNAME:GMT
DTSTART:20261025T010000
END:STANDARD
END:VTIMEZONE
BEGIN:VEVENT
DTSTART;TZID=Europe/London:20250327T180000
DTEND;TZID=Europe/London:20250327T203000
DTSTAMP:20260422T223211
CREATED:20250129T160855Z
LAST-MODIFIED:20260206T133916Z
UID:10000977-1743098400-1743107400@artsconnection.org.uk
SUMMARY:Llanfyllin Youth Arts Cafe
DESCRIPTION:🎨✨ What | Beth: A Weekly Youth Arts Café | Caffi Celfyddydau Ieuenctid Wythnosol 🎭🎉 \n🎨 Arts and crafts | Celf a chrefft 🖌️✂️\n👫 Hang out with friends | Treuliwch amser gyda ffrindiau\n🎲Play games | Chwarae gemau \nWhen | Pryd:\n📅 Thursdays | Dydd Iau\n🕕 Time | Amser: 6 – 8:30pm\n📍 Where | Lle: Llanfyllin Youth and Community Centre | Canolfan Ieuenctid a Chymuned Llanfyllin\nAge | Oed: 10 – 17 years old \nWho Will Be There | Pwy Fydd Yno:\n✨ 2 enablers and an artist twice a month | 2 alluogwr ac artist ddwywaith y mis 🎨🎭\nWhat else | Beth Arall: \n🌟 We’ll be planning summer\, autumn\, and spring trips – young people will be invited to help with fundraising activities! | Byddwn yn trefnu teithiau ac yn annog pobl ifanc i gymryd rhan mewn gweithgareddau codi arian! 🎉🚌🍂 \nExtras | Gwybodaeth Ychwanegol:\n☕ Hot drinks and snacks for purchase at the tuck shop | Byrbrydau a diodydd poeth ar werth yn y siop fwyd 🍫🍪 \nFee | Ffi: £1 💷 \n✨🌟 Join us and be part of the fun! | Dewch i ymuno a bod yn rhan o’r hwyl!  email kerala@artsconnection.org.uk \n  \nVolunteers: We’re looking for volunteers to help out – if you’d be interested in volunteering\, please contact kerala@artsconnection.org.uk (Subject to an enhanced DBS check) \nWe are accepting new members  | Rydym yn derbyn aelodau newydd – Please fill in the parent permission form below and come along to our next session! \nIf you would like any more information please email kerala@artsconnection.org.uk. \nSign up now by clicking here
URL:https://artsconnection.org.uk/event/llanfyllin-youth-arts-cafe/2025-03-27/
LOCATION:Youth & Community Centre | RDC\, Llanfyllin\, SY22 5DB
CATEGORIES:Project | Prosiect
ATTACH;FMTTYPE=image/png:https://artsconnection.org.uk/wp-content/uploads/2023/09/lyac-facebok-banner-25.png
END:VEVENT
BEGIN:VEVENT
DTSTART;TZID=Europe/London:20250320T180000
DTEND;TZID=Europe/London:20250320T203000
DTSTAMP:20260422T223211
CREATED:20250129T160855Z
LAST-MODIFIED:20260206T133916Z
UID:10000976-1742493600-1742502600@artsconnection.org.uk
SUMMARY:Llanfyllin Youth Arts Cafe
DESCRIPTION:🎨✨ What | Beth: A Weekly Youth Arts Café | Caffi Celfyddydau Ieuenctid Wythnosol 🎭🎉 \n🎨 Arts and crafts | Celf a chrefft 🖌️✂️\n👫 Hang out with friends | Treuliwch amser gyda ffrindiau\n🎲Play games | Chwarae gemau \nWhen | Pryd:\n📅 Thursdays | Dydd Iau\n🕕 Time | Amser: 6 – 8:30pm\n📍 Where | Lle: Llanfyllin Youth and Community Centre | Canolfan Ieuenctid a Chymuned Llanfyllin\nAge | Oed: 10 – 17 years old \nWho Will Be There | Pwy Fydd Yno:\n✨ 2 enablers and an artist twice a month | 2 alluogwr ac artist ddwywaith y mis 🎨🎭\nWhat else | Beth Arall: \n🌟 We’ll be planning summer\, autumn\, and spring trips – young people will be invited to help with fundraising activities! | Byddwn yn trefnu teithiau ac yn annog pobl ifanc i gymryd rhan mewn gweithgareddau codi arian! 🎉🚌🍂 \nExtras | Gwybodaeth Ychwanegol:\n☕ Hot drinks and snacks for purchase at the tuck shop | Byrbrydau a diodydd poeth ar werth yn y siop fwyd 🍫🍪 \nFee | Ffi: £1 💷 \n✨🌟 Join us and be part of the fun! | Dewch i ymuno a bod yn rhan o’r hwyl!  email kerala@artsconnection.org.uk \n  \nVolunteers: We’re looking for volunteers to help out – if you’d be interested in volunteering\, please contact kerala@artsconnection.org.uk (Subject to an enhanced DBS check) \nWe are accepting new members  | Rydym yn derbyn aelodau newydd – Please fill in the parent permission form below and come along to our next session! \nIf you would like any more information please email kerala@artsconnection.org.uk. \nSign up now by clicking here
URL:https://artsconnection.org.uk/event/llanfyllin-youth-arts-cafe/2025-03-20/
LOCATION:Youth & Community Centre | RDC\, Llanfyllin\, SY22 5DB
CATEGORIES:Project | Prosiect
ATTACH;FMTTYPE=image/png:https://artsconnection.org.uk/wp-content/uploads/2023/09/lyac-facebok-banner-25.png
END:VEVENT
BEGIN:VEVENT
DTSTART;TZID=Europe/London:20250313T180000
DTEND;TZID=Europe/London:20250313T203000
DTSTAMP:20260422T223211
CREATED:20250129T160855Z
LAST-MODIFIED:20260206T133916Z
UID:10000975-1741888800-1741897800@artsconnection.org.uk
SUMMARY:Llanfyllin Youth Arts Cafe
DESCRIPTION:🎨✨ What | Beth: A Weekly Youth Arts Café | Caffi Celfyddydau Ieuenctid Wythnosol 🎭🎉 \n🎨 Arts and crafts | Celf a chrefft 🖌️✂️\n👫 Hang out with friends | Treuliwch amser gyda ffrindiau\n🎲Play games | Chwarae gemau \nWhen | Pryd:\n📅 Thursdays | Dydd Iau\n🕕 Time | Amser: 6 – 8:30pm\n📍 Where | Lle: Llanfyllin Youth and Community Centre | Canolfan Ieuenctid a Chymuned Llanfyllin\nAge | Oed: 10 – 17 years old \nWho Will Be There | Pwy Fydd Yno:\n✨ 2 enablers and an artist twice a month | 2 alluogwr ac artist ddwywaith y mis 🎨🎭\nWhat else | Beth Arall: \n🌟 We’ll be planning summer\, autumn\, and spring trips – young people will be invited to help with fundraising activities! | Byddwn yn trefnu teithiau ac yn annog pobl ifanc i gymryd rhan mewn gweithgareddau codi arian! 🎉🚌🍂 \nExtras | Gwybodaeth Ychwanegol:\n☕ Hot drinks and snacks for purchase at the tuck shop | Byrbrydau a diodydd poeth ar werth yn y siop fwyd 🍫🍪 \nFee | Ffi: £1 💷 \n✨🌟 Join us and be part of the fun! | Dewch i ymuno a bod yn rhan o’r hwyl!  email kerala@artsconnection.org.uk \n  \nVolunteers: We’re looking for volunteers to help out – if you’d be interested in volunteering\, please contact kerala@artsconnection.org.uk (Subject to an enhanced DBS check) \nWe are accepting new members  | Rydym yn derbyn aelodau newydd – Please fill in the parent permission form below and come along to our next session! \nIf you would like any more information please email kerala@artsconnection.org.uk. \nSign up now by clicking here
URL:https://artsconnection.org.uk/event/llanfyllin-youth-arts-cafe/2025-03-13/
LOCATION:Youth & Community Centre | RDC\, Llanfyllin\, SY22 5DB
CATEGORIES:Project | Prosiect
ATTACH;FMTTYPE=image/png:https://artsconnection.org.uk/wp-content/uploads/2023/09/lyac-facebok-banner-25.png
END:VEVENT
BEGIN:VEVENT
DTSTART;TZID=Europe/London:20250311T190000
DTEND;TZID=Europe/London:20250311T210000
DTSTAMP:20260422T223211
CREATED:20250128T103940Z
LAST-MODIFIED:20250218T095931Z
UID:10000964-1741719600-1741726800@artsconnection.org.uk
SUMMARY:Life Drawing | Bywluniad
DESCRIPTION:Tuesday Nights | Nos Fawrth \nYouth & Community Centre | Llanfyllin | Canolfan Ieuenctid a Chymynedol \n7 – 9pm \nIonawr 14 January \n Chwefror 11 February \nMawrth 11 March \nEbrill 8 April \nAll sessions are untutored | pob sesiwn heb diwtor \nBook | Cofrestru \n\n£20 per term or £6 per session | £20 y tymor neu £6 y sesiwn | kerala@artsconnection.org.uk \n01691 648 929 | 07814 523 52 \n\nThis form does not exist
URL:https://artsconnection.org.uk/event/life-drawing-bywluniad-2/
LOCATION:Youth & Community Centre | RDC\, Llanfyllin\, SY22 5DB
CATEGORIES:Class | Dosbarth
ATTACH;FMTTYPE=image/png:https://artsconnection.org.uk/wp-content/uploads/2024/07/Life-Drawing-25-Facebook-Cover.png
END:VEVENT
BEGIN:VEVENT
DTSTART;TZID=Europe/London:20250306T180000
DTEND;TZID=Europe/London:20250306T203000
DTSTAMP:20260422T223211
CREATED:20250129T160855Z
LAST-MODIFIED:20260206T133916Z
UID:10000974-1741284000-1741293000@artsconnection.org.uk
SUMMARY:Llanfyllin Youth Arts Cafe
DESCRIPTION:🎨✨ What | Beth: A Weekly Youth Arts Café | Caffi Celfyddydau Ieuenctid Wythnosol 🎭🎉 \n🎨 Arts and crafts | Celf a chrefft 🖌️✂️\n👫 Hang out with friends | Treuliwch amser gyda ffrindiau\n🎲Play games | Chwarae gemau \nWhen | Pryd:\n📅 Thursdays | Dydd Iau\n🕕 Time | Amser: 6 – 8:30pm\n📍 Where | Lle: Llanfyllin Youth and Community Centre | Canolfan Ieuenctid a Chymuned Llanfyllin\nAge | Oed: 10 – 17 years old \nWho Will Be There | Pwy Fydd Yno:\n✨ 2 enablers and an artist twice a month | 2 alluogwr ac artist ddwywaith y mis 🎨🎭\nWhat else | Beth Arall: \n🌟 We’ll be planning summer\, autumn\, and spring trips – young people will be invited to help with fundraising activities! | Byddwn yn trefnu teithiau ac yn annog pobl ifanc i gymryd rhan mewn gweithgareddau codi arian! 🎉🚌🍂 \nExtras | Gwybodaeth Ychwanegol:\n☕ Hot drinks and snacks for purchase at the tuck shop | Byrbrydau a diodydd poeth ar werth yn y siop fwyd 🍫🍪 \nFee | Ffi: £1 💷 \n✨🌟 Join us and be part of the fun! | Dewch i ymuno a bod yn rhan o’r hwyl!  email kerala@artsconnection.org.uk \n  \nVolunteers: We’re looking for volunteers to help out – if you’d be interested in volunteering\, please contact kerala@artsconnection.org.uk (Subject to an enhanced DBS check) \nWe are accepting new members  | Rydym yn derbyn aelodau newydd – Please fill in the parent permission form below and come along to our next session! \nIf you would like any more information please email kerala@artsconnection.org.uk. \nSign up now by clicking here
URL:https://artsconnection.org.uk/event/llanfyllin-youth-arts-cafe/2025-03-06/
LOCATION:Youth & Community Centre | RDC\, Llanfyllin\, SY22 5DB
CATEGORIES:Project | Prosiect
ATTACH;FMTTYPE=image/png:https://artsconnection.org.uk/wp-content/uploads/2023/09/lyac-facebok-banner-25.png
END:VEVENT
BEGIN:VEVENT
DTSTART;TZID=Europe/London:20250227T180000
DTEND;TZID=Europe/London:20250227T203000
DTSTAMP:20260422T223211
CREATED:20250129T160855Z
LAST-MODIFIED:20260206T133916Z
UID:10001653-1740679200-1740688200@artsconnection.org.uk
SUMMARY:Llanfyllin Youth Arts Cafe
DESCRIPTION:🎨✨ What | Beth: A Weekly Youth Arts Café | Caffi Celfyddydau Ieuenctid Wythnosol 🎭🎉 \n🎨 Arts and crafts | Celf a chrefft 🖌️✂️\n👫 Hang out with friends | Treuliwch amser gyda ffrindiau\n🎲Play games | Chwarae gemau \nWhen | Pryd:\n📅 Thursdays | Dydd Iau\n🕕 Time | Amser: 6 – 8:30pm\n📍 Where | Lle: Llanfyllin Youth and Community Centre | Canolfan Ieuenctid a Chymuned Llanfyllin\nAge | Oed: 10 – 17 years old \nWho Will Be There | Pwy Fydd Yno:\n✨ 2 enablers and an artist twice a month | 2 alluogwr ac artist ddwywaith y mis 🎨🎭\nWhat else | Beth Arall: \n🌟 We’ll be planning summer\, autumn\, and spring trips – young people will be invited to help with fundraising activities! | Byddwn yn trefnu teithiau ac yn annog pobl ifanc i gymryd rhan mewn gweithgareddau codi arian! 🎉🚌🍂 \nExtras | Gwybodaeth Ychwanegol:\n☕ Hot drinks and snacks for purchase at the tuck shop | Byrbrydau a diodydd poeth ar werth yn y siop fwyd 🍫🍪 \nFee | Ffi: £1 💷 \n✨🌟 Join us and be part of the fun! | Dewch i ymuno a bod yn rhan o’r hwyl!  email kerala@artsconnection.org.uk \n  \nVolunteers: We’re looking for volunteers to help out – if you’d be interested in volunteering\, please contact kerala@artsconnection.org.uk (Subject to an enhanced DBS check) \nWe are accepting new members  | Rydym yn derbyn aelodau newydd – Please fill in the parent permission form below and come along to our next session! \nIf you would like any more information please email kerala@artsconnection.org.uk. \nSign up now by clicking here
URL:https://artsconnection.org.uk/event/llanfyllin-youth-arts-cafe/2025-02-27/
LOCATION:Youth & Community Centre | RDC\, Llanfyllin\, SY22 5DB
CATEGORIES:Project | Prosiect
ATTACH;FMTTYPE=image/png:https://artsconnection.org.uk/wp-content/uploads/2023/09/lyac-facebok-banner-25.png
END:VEVENT
BEGIN:VEVENT
DTSTART;TZID=Europe/London:20250220T180000
DTEND;TZID=Europe/London:20250220T203000
DTSTAMP:20260422T223211
CREATED:20250129T160855Z
LAST-MODIFIED:20260206T133916Z
UID:10000973-1740074400-1740083400@artsconnection.org.uk
SUMMARY:Llanfyllin Youth Arts Cafe
DESCRIPTION:🎨✨ What | Beth: A Weekly Youth Arts Café | Caffi Celfyddydau Ieuenctid Wythnosol 🎭🎉 \n🎨 Arts and crafts | Celf a chrefft 🖌️✂️\n👫 Hang out with friends | Treuliwch amser gyda ffrindiau\n🎲Play games | Chwarae gemau \nWhen | Pryd:\n📅 Thursdays | Dydd Iau\n🕕 Time | Amser: 6 – 8:30pm\n📍 Where | Lle: Llanfyllin Youth and Community Centre | Canolfan Ieuenctid a Chymuned Llanfyllin\nAge | Oed: 10 – 17 years old \nWho Will Be There | Pwy Fydd Yno:\n✨ 2 enablers and an artist twice a month | 2 alluogwr ac artist ddwywaith y mis 🎨🎭\nWhat else | Beth Arall: \n🌟 We’ll be planning summer\, autumn\, and spring trips – young people will be invited to help with fundraising activities! | Byddwn yn trefnu teithiau ac yn annog pobl ifanc i gymryd rhan mewn gweithgareddau codi arian! 🎉🚌🍂 \nExtras | Gwybodaeth Ychwanegol:\n☕ Hot drinks and snacks for purchase at the tuck shop | Byrbrydau a diodydd poeth ar werth yn y siop fwyd 🍫🍪 \nFee | Ffi: £1 💷 \n✨🌟 Join us and be part of the fun! | Dewch i ymuno a bod yn rhan o’r hwyl!  email kerala@artsconnection.org.uk \n  \nVolunteers: We’re looking for volunteers to help out – if you’d be interested in volunteering\, please contact kerala@artsconnection.org.uk (Subject to an enhanced DBS check) \nWe are accepting new members  | Rydym yn derbyn aelodau newydd – Please fill in the parent permission form below and come along to our next session! \nIf you would like any more information please email kerala@artsconnection.org.uk. \nSign up now by clicking here
URL:https://artsconnection.org.uk/event/llanfyllin-youth-arts-cafe/2025-02-20/
LOCATION:Youth & Community Centre | RDC\, Llanfyllin\, SY22 5DB
CATEGORIES:Project | Prosiect
ATTACH;FMTTYPE=image/png:https://artsconnection.org.uk/wp-content/uploads/2023/09/lyac-facebok-banner-25.png
END:VEVENT
BEGIN:VEVENT
DTSTART;TZID=Europe/London:20250213T180000
DTEND;TZID=Europe/London:20250213T203000
DTSTAMP:20260422T223211
CREATED:20250129T160855Z
LAST-MODIFIED:20260206T133916Z
UID:10000972-1739469600-1739478600@artsconnection.org.uk
SUMMARY:Llanfyllin Youth Arts Cafe
DESCRIPTION:🎨✨ What | Beth: A Weekly Youth Arts Café | Caffi Celfyddydau Ieuenctid Wythnosol 🎭🎉 \n🎨 Arts and crafts | Celf a chrefft 🖌️✂️\n👫 Hang out with friends | Treuliwch amser gyda ffrindiau\n🎲Play games | Chwarae gemau \nWhen | Pryd:\n📅 Thursdays | Dydd Iau\n🕕 Time | Amser: 6 – 8:30pm\n📍 Where | Lle: Llanfyllin Youth and Community Centre | Canolfan Ieuenctid a Chymuned Llanfyllin\nAge | Oed: 10 – 17 years old \nWho Will Be There | Pwy Fydd Yno:\n✨ 2 enablers and an artist twice a month | 2 alluogwr ac artist ddwywaith y mis 🎨🎭\nWhat else | Beth Arall: \n🌟 We’ll be planning summer\, autumn\, and spring trips – young people will be invited to help with fundraising activities! | Byddwn yn trefnu teithiau ac yn annog pobl ifanc i gymryd rhan mewn gweithgareddau codi arian! 🎉🚌🍂 \nExtras | Gwybodaeth Ychwanegol:\n☕ Hot drinks and snacks for purchase at the tuck shop | Byrbrydau a diodydd poeth ar werth yn y siop fwyd 🍫🍪 \nFee | Ffi: £1 💷 \n✨🌟 Join us and be part of the fun! | Dewch i ymuno a bod yn rhan o’r hwyl!  email kerala@artsconnection.org.uk \n  \nVolunteers: We’re looking for volunteers to help out – if you’d be interested in volunteering\, please contact kerala@artsconnection.org.uk (Subject to an enhanced DBS check) \nWe are accepting new members  | Rydym yn derbyn aelodau newydd – Please fill in the parent permission form below and come along to our next session! \nIf you would like any more information please email kerala@artsconnection.org.uk. \nSign up now by clicking here
URL:https://artsconnection.org.uk/event/llanfyllin-youth-arts-cafe/2025-02-13/
LOCATION:Youth & Community Centre | RDC\, Llanfyllin\, SY22 5DB
CATEGORIES:Project | Prosiect
ATTACH;FMTTYPE=image/png:https://artsconnection.org.uk/wp-content/uploads/2023/09/lyac-facebok-banner-25.png
END:VEVENT
BEGIN:VEVENT
DTSTART;TZID=Europe/London:20250206T180000
DTEND;TZID=Europe/London:20250206T203000
DTSTAMP:20260422T223211
CREATED:20250129T160855Z
LAST-MODIFIED:20260206T133916Z
UID:10000971-1738864800-1738873800@artsconnection.org.uk
SUMMARY:Llanfyllin Youth Arts Cafe
DESCRIPTION:🎨✨ What | Beth: A Weekly Youth Arts Café | Caffi Celfyddydau Ieuenctid Wythnosol 🎭🎉 \n🎨 Arts and crafts | Celf a chrefft 🖌️✂️\n👫 Hang out with friends | Treuliwch amser gyda ffrindiau\n🎲Play games | Chwarae gemau \nWhen | Pryd:\n📅 Thursdays | Dydd Iau\n🕕 Time | Amser: 6 – 8:30pm\n📍 Where | Lle: Llanfyllin Youth and Community Centre | Canolfan Ieuenctid a Chymuned Llanfyllin\nAge | Oed: 10 – 17 years old \nWho Will Be There | Pwy Fydd Yno:\n✨ 2 enablers and an artist twice a month | 2 alluogwr ac artist ddwywaith y mis 🎨🎭\nWhat else | Beth Arall: \n🌟 We’ll be planning summer\, autumn\, and spring trips – young people will be invited to help with fundraising activities! | Byddwn yn trefnu teithiau ac yn annog pobl ifanc i gymryd rhan mewn gweithgareddau codi arian! 🎉🚌🍂 \nExtras | Gwybodaeth Ychwanegol:\n☕ Hot drinks and snacks for purchase at the tuck shop | Byrbrydau a diodydd poeth ar werth yn y siop fwyd 🍫🍪 \nFee | Ffi: £1 💷 \n✨🌟 Join us and be part of the fun! | Dewch i ymuno a bod yn rhan o’r hwyl!  email kerala@artsconnection.org.uk \n  \nVolunteers: We’re looking for volunteers to help out – if you’d be interested in volunteering\, please contact kerala@artsconnection.org.uk (Subject to an enhanced DBS check) \nWe are accepting new members  | Rydym yn derbyn aelodau newydd – Please fill in the parent permission form below and come along to our next session! \nIf you would like any more information please email kerala@artsconnection.org.uk. \nSign up now by clicking here
URL:https://artsconnection.org.uk/event/llanfyllin-youth-arts-cafe/2025-02-06/
LOCATION:Youth & Community Centre | RDC\, Llanfyllin\, SY22 5DB
CATEGORIES:Project | Prosiect
ATTACH;FMTTYPE=image/png:https://artsconnection.org.uk/wp-content/uploads/2023/09/lyac-facebok-banner-25.png
END:VEVENT
BEGIN:VEVENT
DTSTART;TZID=Europe/London:20250130T180000
DTEND;TZID=Europe/London:20250130T203000
DTSTAMP:20260422T223211
CREATED:20250129T160855Z
LAST-MODIFIED:20260206T133916Z
UID:10000970-1738260000-1738269000@artsconnection.org.uk
SUMMARY:Llanfyllin Youth Arts Cafe
DESCRIPTION:🎨✨ What | Beth: A Weekly Youth Arts Café | Caffi Celfyddydau Ieuenctid Wythnosol 🎭🎉 \n🎨 Arts and crafts | Celf a chrefft 🖌️✂️\n👫 Hang out with friends | Treuliwch amser gyda ffrindiau\n🎲Play games | Chwarae gemau \nWhen | Pryd:\n📅 Thursdays | Dydd Iau\n🕕 Time | Amser: 6 – 8:30pm\n📍 Where | Lle: Llanfyllin Youth and Community Centre | Canolfan Ieuenctid a Chymuned Llanfyllin\nAge | Oed: 10 – 17 years old \nWho Will Be There | Pwy Fydd Yno:\n✨ 2 enablers and an artist twice a month | 2 alluogwr ac artist ddwywaith y mis 🎨🎭\nWhat else | Beth Arall: \n🌟 We’ll be planning summer\, autumn\, and spring trips – young people will be invited to help with fundraising activities! | Byddwn yn trefnu teithiau ac yn annog pobl ifanc i gymryd rhan mewn gweithgareddau codi arian! 🎉🚌🍂 \nExtras | Gwybodaeth Ychwanegol:\n☕ Hot drinks and snacks for purchase at the tuck shop | Byrbrydau a diodydd poeth ar werth yn y siop fwyd 🍫🍪 \nFee | Ffi: £1 💷 \n✨🌟 Join us and be part of the fun! | Dewch i ymuno a bod yn rhan o’r hwyl!  email kerala@artsconnection.org.uk \n  \nVolunteers: We’re looking for volunteers to help out – if you’d be interested in volunteering\, please contact kerala@artsconnection.org.uk (Subject to an enhanced DBS check) \nWe are accepting new members  | Rydym yn derbyn aelodau newydd – Please fill in the parent permission form below and come along to our next session! \nIf you would like any more information please email kerala@artsconnection.org.uk. \nSign up now by clicking here
URL:https://artsconnection.org.uk/event/llanfyllin-youth-arts-cafe/2025-01-30/
LOCATION:Youth & Community Centre | RDC\, Llanfyllin\, SY22 5DB
CATEGORIES:Project | Prosiect
ATTACH;FMTTYPE=image/png:https://artsconnection.org.uk/wp-content/uploads/2023/09/lyac-facebok-banner-25.png
END:VEVENT
BEGIN:VEVENT
DTSTART;TZID=Europe/London:20250123T180000
DTEND;TZID=Europe/London:20250123T203000
DTSTAMP:20260422T223211
CREATED:20250129T160855Z
LAST-MODIFIED:20260206T133916Z
UID:10000969-1737655200-1737664200@artsconnection.org.uk
SUMMARY:Llanfyllin Youth Arts Cafe
DESCRIPTION:🎨✨ What | Beth: A Weekly Youth Arts Café | Caffi Celfyddydau Ieuenctid Wythnosol 🎭🎉 \n🎨 Arts and crafts | Celf a chrefft 🖌️✂️\n👫 Hang out with friends | Treuliwch amser gyda ffrindiau\n🎲Play games | Chwarae gemau \nWhen | Pryd:\n📅 Thursdays | Dydd Iau\n🕕 Time | Amser: 6 – 8:30pm\n📍 Where | Lle: Llanfyllin Youth and Community Centre | Canolfan Ieuenctid a Chymuned Llanfyllin\nAge | Oed: 10 – 17 years old \nWho Will Be There | Pwy Fydd Yno:\n✨ 2 enablers and an artist twice a month | 2 alluogwr ac artist ddwywaith y mis 🎨🎭\nWhat else | Beth Arall: \n🌟 We’ll be planning summer\, autumn\, and spring trips – young people will be invited to help with fundraising activities! | Byddwn yn trefnu teithiau ac yn annog pobl ifanc i gymryd rhan mewn gweithgareddau codi arian! 🎉🚌🍂 \nExtras | Gwybodaeth Ychwanegol:\n☕ Hot drinks and snacks for purchase at the tuck shop | Byrbrydau a diodydd poeth ar werth yn y siop fwyd 🍫🍪 \nFee | Ffi: £1 💷 \n✨🌟 Join us and be part of the fun! | Dewch i ymuno a bod yn rhan o’r hwyl!  email kerala@artsconnection.org.uk \n  \nVolunteers: We’re looking for volunteers to help out – if you’d be interested in volunteering\, please contact kerala@artsconnection.org.uk (Subject to an enhanced DBS check) \nWe are accepting new members  | Rydym yn derbyn aelodau newydd – Please fill in the parent permission form below and come along to our next session! \nIf you would like any more information please email kerala@artsconnection.org.uk. \nSign up now by clicking here
URL:https://artsconnection.org.uk/event/llanfyllin-youth-arts-cafe/2025-01-23/
LOCATION:Youth & Community Centre | RDC\, Llanfyllin\, SY22 5DB
CATEGORIES:Project | Prosiect
ATTACH;FMTTYPE=image/png:https://artsconnection.org.uk/wp-content/uploads/2023/09/lyac-facebok-banner-25.png
END:VEVENT
BEGIN:VEVENT
DTSTART;TZID=Europe/London:20250122T100000
DTEND;TZID=Europe/London:20250122T120000
DTSTAMP:20260422T223211
CREATED:20250107T163408Z
LAST-MODIFIED:20250121T140653Z
UID:10000943-1737540000-1737547200@artsconnection.org.uk
SUMMARY:Messy Play | Chwarae Anniben
DESCRIPTION:Messy and sensory play and fun – feel free to stay or just drop in! | Chwarae blêr a synhwyraidd a hwyl – croeso i chi aros neu dim ond galw heibio! \nWe will bring things like cardboard tubes\, sand\, water\, sensory materials\, as well as paint and play dough. The paint and play dough are home made and safe for little ones to play with | Byddwn yn dod â phethau fel tiwbiau cardbord\, tywod\, dŵr\, deunyddiau synhwyraidd\, yn ogystal â phaent a thoes chwarae. Mae’r paent a’r toes chwarae wedi’u gwneud gartref ac yn ddiogel i blant bach chwarae â nhw. \nPlease come dressed to get messy! Plîs dewch wedi gwisgo i fod yn flêr! \n👩‍🎨👨‍🎨 People – Maili McQuaid and other staff member TBC \n👶 Babies & Toddlers | Babanod a phlant bach \n📅 Wed 22 Jan  | Dydd Mercher 22 Ion \n⏰ 10am – 12pm \n📍 Youth & Community Centre | Llanfyllin \n💷 £4 per family | y teulu \nBook | Cofrestru: \nThis form does not exist
URL:https://artsconnection.org.uk/event/messy-play/
LOCATION:Youth & Community Centre | RDC\, Llanfyllin\, SY22 5DB
CATEGORIES:Workshop | Gweithdy
ATTACH;FMTTYPE=image/png:https://artsconnection.org.uk/wp-content/uploads/2024/05/Copy-of-Messy-Play-Llanfyllin-1920-x-1080-px.png
END:VEVENT
BEGIN:VEVENT
DTSTART;TZID=Europe/London:20250116T180000
DTEND;TZID=Europe/London:20250116T203000
DTSTAMP:20260422T223211
CREATED:20250129T160855Z
LAST-MODIFIED:20260206T133916Z
UID:10000968-1737050400-1737059400@artsconnection.org.uk
SUMMARY:Llanfyllin Youth Arts Cafe
DESCRIPTION:🎨✨ What | Beth: A Weekly Youth Arts Café | Caffi Celfyddydau Ieuenctid Wythnosol 🎭🎉 \n🎨 Arts and crafts | Celf a chrefft 🖌️✂️\n👫 Hang out with friends | Treuliwch amser gyda ffrindiau\n🎲Play games | Chwarae gemau \nWhen | Pryd:\n📅 Thursdays | Dydd Iau\n🕕 Time | Amser: 6 – 8:30pm\n📍 Where | Lle: Llanfyllin Youth and Community Centre | Canolfan Ieuenctid a Chymuned Llanfyllin\nAge | Oed: 10 – 17 years old \nWho Will Be There | Pwy Fydd Yno:\n✨ 2 enablers and an artist twice a month | 2 alluogwr ac artist ddwywaith y mis 🎨🎭\nWhat else | Beth Arall: \n🌟 We’ll be planning summer\, autumn\, and spring trips – young people will be invited to help with fundraising activities! | Byddwn yn trefnu teithiau ac yn annog pobl ifanc i gymryd rhan mewn gweithgareddau codi arian! 🎉🚌🍂 \nExtras | Gwybodaeth Ychwanegol:\n☕ Hot drinks and snacks for purchase at the tuck shop | Byrbrydau a diodydd poeth ar werth yn y siop fwyd 🍫🍪 \nFee | Ffi: £1 💷 \n✨🌟 Join us and be part of the fun! | Dewch i ymuno a bod yn rhan o’r hwyl!  email kerala@artsconnection.org.uk \n  \nVolunteers: We’re looking for volunteers to help out – if you’d be interested in volunteering\, please contact kerala@artsconnection.org.uk (Subject to an enhanced DBS check) \nWe are accepting new members  | Rydym yn derbyn aelodau newydd – Please fill in the parent permission form below and come along to our next session! \nIf you would like any more information please email kerala@artsconnection.org.uk. \nSign up now by clicking here
URL:https://artsconnection.org.uk/event/llanfyllin-youth-arts-cafe/2025-01-16/
LOCATION:Youth & Community Centre | RDC\, Llanfyllin\, SY22 5DB
CATEGORIES:Project | Prosiect
ATTACH;FMTTYPE=image/png:https://artsconnection.org.uk/wp-content/uploads/2023/09/lyac-facebok-banner-25.png
END:VEVENT
BEGIN:VEVENT
DTSTART;TZID=Europe/London:20250109T180000
DTEND;TZID=Europe/London:20250109T203000
DTSTAMP:20260422T223211
CREATED:20250129T160855Z
LAST-MODIFIED:20260206T133916Z
UID:10000967-1736445600-1736454600@artsconnection.org.uk
SUMMARY:Llanfyllin Youth Arts Cafe
DESCRIPTION:🎨✨ What | Beth: A Weekly Youth Arts Café | Caffi Celfyddydau Ieuenctid Wythnosol 🎭🎉 \n🎨 Arts and crafts | Celf a chrefft 🖌️✂️\n👫 Hang out with friends | Treuliwch amser gyda ffrindiau\n🎲Play games | Chwarae gemau \nWhen | Pryd:\n📅 Thursdays | Dydd Iau\n🕕 Time | Amser: 6 – 8:30pm\n📍 Where | Lle: Llanfyllin Youth and Community Centre | Canolfan Ieuenctid a Chymuned Llanfyllin\nAge | Oed: 10 – 17 years old \nWho Will Be There | Pwy Fydd Yno:\n✨ 2 enablers and an artist twice a month | 2 alluogwr ac artist ddwywaith y mis 🎨🎭\nWhat else | Beth Arall: \n🌟 We’ll be planning summer\, autumn\, and spring trips – young people will be invited to help with fundraising activities! | Byddwn yn trefnu teithiau ac yn annog pobl ifanc i gymryd rhan mewn gweithgareddau codi arian! 🎉🚌🍂 \nExtras | Gwybodaeth Ychwanegol:\n☕ Hot drinks and snacks for purchase at the tuck shop | Byrbrydau a diodydd poeth ar werth yn y siop fwyd 🍫🍪 \nFee | Ffi: £1 💷 \n✨🌟 Join us and be part of the fun! | Dewch i ymuno a bod yn rhan o’r hwyl!  email kerala@artsconnection.org.uk \n  \nVolunteers: We’re looking for volunteers to help out – if you’d be interested in volunteering\, please contact kerala@artsconnection.org.uk (Subject to an enhanced DBS check) \nWe are accepting new members  | Rydym yn derbyn aelodau newydd – Please fill in the parent permission form below and come along to our next session! \nIf you would like any more information please email kerala@artsconnection.org.uk. \nSign up now by clicking here
URL:https://artsconnection.org.uk/event/llanfyllin-youth-arts-cafe/2025-01-09/
LOCATION:Youth & Community Centre | RDC\, Llanfyllin\, SY22 5DB
CATEGORIES:Project | Prosiect
ATTACH;FMTTYPE=image/png:https://artsconnection.org.uk/wp-content/uploads/2023/09/lyac-facebok-banner-25.png
END:VEVENT
END:VCALENDAR